BEGIN:VCALENDAR
VERSION:2.0
PRODID:-//wp-events-plugin.com//7.2.3.1//EN
TZID:Europe/Warsaw
X-WR-TIMEZONE:Europe/Warsaw
BEGIN:VEVENT
UID:48734@night4u.pl
DTSTART;TZID=Europe/Warsaw:20200228T210000
DTEND;TZID=Europe/Warsaw:20200229T050000
DTSTAMP:20200228T184357Z
URL:https://night4u.pl/wydarzenia/erasmus-latino-party-esn-gdansk-lista-fb
 -wstep-free-do-23-00-3/
SUMMARY:Erasmus Latino Party -ESN Gdańsk- Lista FB wstęp free do 23.00
DESCRIPTION:Nowy Harem i  Erasmus Student Network Gdansk - ESN Gdansk  zapr
 asza wszystkich studentów i studentów Erasmusa na imprezę ERASMUS PARTY
  - BUS EDITION\n\nDla wszystkich mega promocja na barze:\nPiwo 0\,4l -  8z
 ł\, Shisha - 19zł. \n\nNew HAREM and Erasmus Student Network (ESN Gdańs
 k) invite all students to the ERASMUS PARTY - BUS EDITION\n\nWith your ESN
 card you can count on cool discounts at the bar:\nBeer 8PLN\, shisha(hooka
 h) 19 PLN\n\nMuzyka:\nDJ MITCH\nStart: 21.00\n\nWstęp/Entrance: Erasmus S
 tudents free entrance!!! / Studenci Erasmus wstęp wolny!!!\nPozostali go
 ście: karty klubowe wstęp wolny\, standardowy bilet 10 zł\n/Lista FB ws
 tęp wolny do 23.00/\n\n*Wstęp tylko dla osób pełnoletnich\, w razie w
 ątpliwości selekcjoner ma prawo poprosić o dokument potwierdzający wie
 k.\n** Strój wieczorowy\, modny\, klubowy\, niekoniecznie galowy\, zdecyd
 owanie nie sportowy. Wyglądaj dobrze\, czuj się komfortowo\, spraw by in
 ni mieli co podziwiać\;)    \n\nRezerwacje: \n                     tel. +
 48 602-213-323 lub wiadomość prywatna  \n                     *Regulamin
  i zasady rezerwacji - kliknij link: \n                     https://tinyur
 l.com/zasadyrezerwacji
ATTACH;FMTTYPE=image/jpeg:https://night4u.pl/wp-content/uploads/2020/02/16
 6599_image_86603418_755105228314415_5589719147685609472_n.jpg
CATEGORIES:pomorskie
LOCATION:Nowy Harem Gdynia\, 3 Maja 28\, Gdynia\, 81-364\, Poland
GEO:54.519089;18.535287
X-APPLE-STRUCTURED-LOCATION;VALUE=URI;X-ADDRESS=3 Maja 28\, Gdynia\, 81-364
 \, Poland;X-APPLE-RADIUS=100;X-TITLE=Nowy Harem Gdynia:geo:54.519089,18.53
 5287
END:VEVENT
BEGIN:VTIMEZONE
TZID:Europe/Warsaw
X-LIC-LOCATION:Europe/Warsaw
BEGIN:STANDARD
DTSTART:20191027T020000
TZOFFSETFROM:+0200
TZOFFSETTO:+0100
TZNAME:CET
END:STANDARD
END:VTIMEZONE
END:VCALENDAR