BEGIN:VCALENDAR
VERSION:2.0
PRODID:-//wp-events-plugin.com//7.2.3.1//EN
TZID:Europe/Warsaw
X-WR-TIMEZONE:Europe/Warsaw
BEGIN:VEVENT
UID:16358@night4u.pl
DTSTART;TZID=Europe/Warsaw:20190517T210000
DTEND;TZID=Europe/Warsaw:20190518T020000
DTSTAMP:20190516T203725Z
URL:https://night4u.pl/wydarzenia/euro420-eurodanek-live-djs-17-05-wroclaw
 -czula-jest-noc/
SUMMARY:Euro420 | Eurodanek Live + DJs / 17.05. Wrocław\, Czuła Jest Noc
DESCRIPTION:Polonia Disco nareszcie wjeżdża na Wrocław! \n\nEURO420 | EU
 RODANEK Live + Wix Collina\, DJ Gipsy\, DJ Roteiro\nWrocław / Czuła jest
  noc\n17.05.2019 / 21.00\nWydarzenie jest częścią Klubu Festiwalowego M
 illennium Docs Against Gravity Wrocław. \n\nWarszawska kooperatywa Poloni
 a Disco zaprasza na EURO420: podróż do czasów trzepaka i czasów open s
 pace'a\, czasów "I'm Blue" i tych zupełnie najnowszych. Na żywo zagra E
 URODANEK\, autor nieśmiertelnego "W Ruchu Cały Czas"\, a o zabawę na pa
 rkiecie zadbają Disc Jockeye. #eurodance #viva #powerdance #hinrg #DANCE.
  \n\nEURODANEK: \nZadebiutował singlem „W ruchu cały czas” wydanym p
 rzez warszawską wytwórnię Polonia Disco. Jego inspiracją jest muzyka k
 lubowa lat 90-tych\, a koncerty to podróż w świat rejwu\, miłości i h
 igh energy.\n\nwww.facebook.com/eurodanek/\nW Ruchu Cały Czas:\nhttps://w
 ww.youtube.com/watch?v=r8jUCvo5J24\n\nPOLONIA DISCO:\nhttps://www.facebook
 .com/poloniadisco/\nhttps://soundcloud.com/poloniadisco\n\nWstęp bezpłat
 ny za okazaniem biletu z danego dnia festiwalu\nDla pozostałych wstęp: 1
 0 PLN (do godziny 24:00) lub 15 PLN (po godzinie 24:00)
ATTACH;FMTTYPE=image/jpeg:https://night4u.pl/wp-content/uploads/2019/05/40
 058_image_58978428_461251054618099_7578980473993428992_n.jpg
CATEGORIES:dolnośląskie
LOCATION:Czuła jest noc\, ulica Kolejowa 8\, Wroclaw\, 53-508\, Poland
GEO:51.10137;17.0232
X-APPLE-STRUCTURED-LOCATION;VALUE=URI;X-ADDRESS=ulica Kolejowa 8\, Wroclaw\
 , 53-508\, Poland;X-APPLE-RADIUS=100;X-TITLE=Czuła jest noc:geo:51.10137,
 17.0232
END:VEVENT
BEGIN:VTIMEZONE
TZID:Europe/Warsaw
X-LIC-LOCATION:Europe/Warsaw
BEGIN:DAYLIGHT
DTSTART:20190331T030000
TZOFFSETFROM:+0100
TZOFFSETTO:+0200
TZNAME:CEST
END:DAYLIGHT
END:VTIMEZONE
END:VCALENDAR