BEGIN:VCALENDAR
VERSION:2.0
PRODID:-//wp-events-plugin.com//7.2.3.1//EN
TZID:Europe/Warsaw
X-WR-TIMEZONE:Europe/Warsaw
BEGIN:VEVENT
UID:38503@night4u.pl
DTSTART;TZID=Europe/Warsaw:20200308T190000
DTEND;TZID=Europe/Warsaw:20200308T220000
DTSTAMP:20200305T163505Z
URL:https://night4u.pl/wydarzenia/ewa-farna-interakcja-tour/
SUMMARY:Ewa Farna Interakcja TOUR
DESCRIPTION:I Pula 49 PLN - SOLD OUT\nII Pula 69 PLN - SOLD OUT\nIII Pula 8
 9 PLN - SOLD OUT\nIV Pula 109 PLN\n\nEWA FARNA INTERAKCJA TOUR - wejdź z 
 nami w prawdziwą muzyczną interakcję- odłóż telefon i daj się poch
 łonąć temu\, co dzieje się na żywo- ze mną i zespołem.\nCzęsto zap
 atrzeni w telefony gubimy ze sobą kontakt\, zapominamy o realnym świecie
 \, o prawdziwych ludziach\, autentycznych relacjach. Ja chcę chociaż na 
 tę godzinę zerwać łańcuchy wirtualnych uzależnień i cieszyć się z
  Tobą prawdziwą\, żywą muzyką\, na miejscu\, nie poprzez ekran telefo
 nu czy kamery. Będziemy dzielić się emocjami bezpośrednio. Daj się pr
 zekonać\, że warto. Już 8.03 w Poznaniu!  Ewa!
ATTACH;FMTTYPE=image/jpeg:https://night4u.pl/wp-content/uploads/2020/02/11
 0000_image_86731136_1224294834443948_2794999922636619776_n.jpg
CATEGORIES:wielkopolskie
LOCATION:Klub Muzyczny B17\, Bułgarska 17\, Poznan\, 60-320\, Poland
GEO:52.397137;16.859419
X-APPLE-STRUCTURED-LOCATION;VALUE=URI;X-ADDRESS=Bułgarska 17\, Poznan\, 60
 -320\, Poland;X-APPLE-RADIUS=100;X-TITLE=Klub Muzyczny B17:geo:52.397137,1
 6.859419
END:VEVENT
BEGIN:VTIMEZONE
TZID:Europe/Warsaw
X-LIC-LOCATION:Europe/Warsaw
BEGIN:STANDARD
DTSTART:20191027T020000
TZOFFSETFROM:+0200
TZOFFSETTO:+0100
TZNAME:CET
END:STANDARD
END:VTIMEZONE
END:VCALENDAR