BEGIN:VCALENDAR
VERSION:2.0
PRODID:-//wp-events-plugin.com//7.2.3.1//EN
TZID:Europe/Warsaw
X-WR-TIMEZONE:Europe/Warsaw
BEGIN:VEVENT
UID:27474@night4u.pl
DTSTART;TZID=Europe/Warsaw:20190919T200000
DTEND;TZID=Europe/Warsaw:20190919T220000
DTSTAMP:20190914T105700Z
URL:https://night4u.pl/wydarzenia/ewelinaszymon-acoustic-duo/
SUMMARY:Ewelina&Szymon / Acoustic Duo
DESCRIPTION:Ewelina i Szymon to dwójka młodych\, pozytywnie zakręconych 
 ludzi\, których największą pasją jest muzyka.\n\nOna - absolwentka Kra
 kowskiej Szkoły Jazzu i Muzyki Rozrywkowej\, on - absolwent Akademii Muzy
 cznej w Katowicach. \n\nW ich repertuarze znajdziecie utwory takich artyst
 ów jak: Sting\, Amy Winehouse\, Ray Charles\, Steve Wonder i wielu innych
 . \n\nNie zabraknie dobrej energii\, która towarzyszyć nam będzie tego 
 wieczoru. Bądźcie tam z nami!
ATTACH;FMTTYPE=image/jpeg:https://night4u.pl/wp-content/uploads/2019/09/63
 968_image_69942050_10156685362883042_6294097739894489088_o.jpg
CATEGORIES:małopolskie
LOCATION:PROMINENT The Original Lounge Bar\, Kraków\, Poland
GEO:50.0754;19.94082
X-APPLE-STRUCTURED-LOCATION;VALUE=URI;X-ADDRESS=Kraków\, Poland;X-APPLE-RA
 DIUS=100;X-TITLE=PROMINENT The Original Lounge Bar:geo:50.0754,19.94082
END:VEVENT
BEGIN:VTIMEZONE
TZID:Europe/Warsaw
X-LIC-LOCATION:Europe/Warsaw
BEGIN:DAYLIGHT
DTSTART:20190331T030000
TZOFFSETFROM:+0100
TZOFFSETTO:+0200
TZNAME:CEST
END:DAYLIGHT
END:VTIMEZONE
END:VCALENDAR