BEGIN:VCALENDAR
VERSION:2.0
PRODID:-//wp-events-plugin.com//7.2.3.1//EN
TZID:Europe/Warsaw
X-WR-TIMEZONE:Europe/Warsaw
BEGIN:VEVENT
UID:48078@night4u.pl
DTSTART;TZID=Europe/Warsaw:20200229T200000
DTEND;TZID=Europe/Warsaw:20200301T050000
DTSTAMP:20200229T183905Z
URL:https://night4u.pl/wydarzenia/exclusive-abba-night-sobota-29-02-club-8
 0/
SUMMARY:Exclusive Abba Night // Sobota 29.02 - Club 80
DESCRIPTION:EXCLUSIVE ABBA NIGHT // Sobota 29.02 - Club 80\n  \nWielkimi kr
 okami zbliża się kolejna z imprez tematycznych\, naszpikowanych mnóstwe
 m nieśmiertelnych przebojów!🎶😍\n  \nTym razem padło na legendarny
 \, szwedzki zespół #ABBA! \n \nKto z Was ma ukrytą w piwnicy lub szafie
  płytę winylową\, z którymkolwiek spośród licznych hitów tej formac
 ji?💥🔥\nSpokojnie! Nie musicie robić poszukiwań! My zrobiliśmy to 
 za Was! Wy jedynie zorganizujcie czas i znajomych!💃🕺\n  \n  Zaprasza
 my w ostatnią sobotę lutego!\n  --\n 🎧 Imprezę nakręca: DJ MARCO\n-
 -\nℹ INFO\n\n➡ START: 🕘 20.00 | DOOR SELECTION\n\n➡ REZERWACJE\n
 ⌨ https://club80gliwice.superboss.pl/\n\n➡ REGULAMIN KLUBU\nhttps://bi
 t.ly/2AqoA65\n\n➡ POROZMAWIAJ ONLINE \nm.me/Club80.Gliwice\n--\nwww.club
 80.pl\nwww.fb.com/Club80.Gliwice
ATTACH;FMTTYPE=image/jpeg:https://night4u.pl/wp-content/uploads/2020/02/16
 2338_image_87064908_2521731954601783_9006475548456648704_o.jpg
CATEGORIES:śląskie
LOCATION:Club 80 Gliwice\, Dubois 22\, Gliwice\, 44-100\, Poland
GEO:50.300203;18.672661
X-APPLE-STRUCTURED-LOCATION;VALUE=URI;X-ADDRESS=Dubois 22\, Gliwice\, 44-10
 0\, Poland;X-APPLE-RADIUS=100;X-TITLE=Club 80 Gliwice:geo:50.300203,18.672
 661
END:VEVENT
BEGIN:VTIMEZONE
TZID:Europe/Warsaw
X-LIC-LOCATION:Europe/Warsaw
BEGIN:STANDARD
DTSTART:20191027T020000
TZOFFSETFROM:+0200
TZOFFSETTO:+0100
TZNAME:CET
END:STANDARD
END:VTIMEZONE
END:VCALENDAR