BEGIN:VCALENDAR
VERSION:2.0
PRODID:-//wp-events-plugin.com//7.2.3.1//EN
TZID:Europe/Warsaw
X-WR-TIMEZONE:Europe/Warsaw
BEGIN:VEVENT
UID:27444@night4u.pl
DTSTART;TZID=Europe/Warsaw:20190921T210000
DTEND;TZID=Europe/Warsaw:20190922T060000
DTSTAMP:20190914T105414Z
URL:https://night4u.pl/wydarzenia/exclusive-performance-night-mad-fiddle-%
 e2%9c%aa-sob-21-09/
SUMMARY:Exclusive Performance Night - Mad Fiddle ✪ Sob. 21.09
DESCRIPTION:Jak zwykle w sobotni wieczór będzie baaaaardzo wyjątkowo. ?\
 nO niepowtarzalny klimat podczas imprezy zadba MAD FIDDLE - genialny wirtu
 oz\, który ze swoimi skrzypcami robi niesamowite show! ?\n\nJego wykonani
 a znanych utworów zapierają dech w piersiach! \n? Fiddle Day\nhttps://yo
 utu.be/SwBlne4G1YU\n? P!nk - What About Us (Mad Fiddle Violin Cover)\nhttp
 s://youtu.be/-fmm6e-mU-I\n? Lost Frequencies - Are You With Me (Violin Cov
 er by Mad Fiddle)\nhttps://youtu.be/bUPjkFucORA \n? Alan Walker - Tired & 
 Avicii - Wake Me Up (Mad Fiddle Violin Cover)\nhttps://youtu.be/P4Cwwt2Grf
 Y\nPodoba się Wam? ??? Już w sobotę 21 września kilkukrotnie wystąpi 
 na scenie Pomarańczy. \n\nWystęp uświetnią zmysłowe tancerki Sexi Dan
 cers. ? Zapowiada się piekielnie dobra impreza! ?\n\n? #NowaPomarańcza  
 - ZAPRASZAMY!\n--\nINFORMACJE\n? 21.09 - SOBOTA\n? Start: 21:00\n? Selekcj
 a: +18\n? Wstęp: \nPanie - 15zł\nPanowie - 20zł\nPanie do 22:00 - WSTĘ
 P FREE\n? Katowice\, ul. Mickiewicza 4\, Galeria Skarbek (Rynek)\n--\nREST
 AURACJA STREET FOOD ? ?\nPrzez cały czas trwania imprezy czynna jest rest
 auracja TACO LOCO STREET FOOD!\n--\nPROMOCJE\n? Odprawimy Twoje urodziny!\
 nA także zorganizujemy:\n? Wieczór Panieński\n? Wieczór Kawalerski\nRe
 zerwacje od wtorku do soboty od 13:00 do 21:00\n? 536 901 907\n? mojaimpre
 za@pomaranczagroup.pl\n--\nREZERWACJA LOŻY\nRezerwacje loży online: http
 s://klubpomarancza.pl/katowice/rezerwacjalozy/\n--\nMUZYKA\nSALA KLUBOWA 
 ▶ DC-LUCK \nSALA DANCE ▶  PAUL SECCO\nSALA CUBANA ▶ GM\n--\nINSTAGRA
 M\nwww.instagram.com/pomarancza_katowice
ATTACH;FMTTYPE=image/jpeg:https://night4u.pl/wp-content/uploads/2019/09/63
 886_image_69625791_2704005199618484_7397007940932075520_o.jpg
CATEGORIES:śląskie
LOCATION:Klub Pomarańcza Katowice\, Mickiewicza 4\, Katowice\, 40-092\, Po
 land
GEO:50.25976;19.02082
X-APPLE-STRUCTURED-LOCATION;VALUE=URI;X-ADDRESS=Mickiewicza 4\, Katowice\, 
 40-092\, Poland;X-APPLE-RADIUS=100;X-TITLE=Klub Pomarańcza Katowice:geo:5
 0.25976,19.02082
END:VEVENT
BEGIN:VTIMEZONE
TZID:Europe/Warsaw
X-LIC-LOCATION:Europe/Warsaw
BEGIN:DAYLIGHT
DTSTART:20190331T030000
TZOFFSETFROM:+0100
TZOFFSETTO:+0200
TZNAME:CEST
END:DAYLIGHT
END:VTIMEZONE
END:VCALENDAR