BEGIN:VCALENDAR
VERSION:2.0
PRODID:-//wp-events-plugin.com//7.2.3.1//EN
TZID:Europe/Warsaw
X-WR-TIMEZONE:Europe/Warsaw
BEGIN:VEVENT
UID:6704@night4u.pl
DTSTART;TZID=Europe/Warsaw:20190216T220000
DTEND;TZID=Europe/Warsaw:20190217T040000
DTSTAMP:20190207T103630Z
URL:https://night4u.pl/wydarzenia/eyes-wild-shut-w-scenie54/
SUMMARY:Eyes Wild Shut w Scenie54
DESCRIPTION:16.02 (sobota) w Scenie54 przy Dolnych Młynów 10 odbędzie si
 ę zmysłowa i pełna uniesień impreza\, której uczestnicy założą mas
 ki ?\, by wzbudzić u pozostałych ciekawość i rozpalić wyobraźnię ?\
 n\nO zmysłową muzykę zadbają:\n?DJ Lelle\nW Jego setach można usłysz
 eć mocno wyselekcjonowaną muzykę bardziej jak i mniej komercyjną najcz
 ęściej w gatunku Vocal House\, Disco House\, którą oczywiście skrupul
 atnie przygotowuje przed każdym występem.\n\n?Georgina Tarasiuk\nWokalis
 tka\, kompozytorka\, autorka tekstów. Swoje pierwsze kroki stawiała jako
  10-latka w programie „Szansa na Sukces”\, gdzie była również zwyci
 ężczynią 10-lecia programu. Jako 14-latka nakładem wytwórni Sony Musi
 c Polska\, wydała swoją pierwszą solową płytę.\n\n?Stanlej Martino \
 nWzięty saksofonista\, świetnie odnajdujący się w klubowych klimatach.
  Swoim saksofonem potrafi odmienić znane hity i tchnąć w nie nową ener
 gię.\n\nStart: 22:00\nRezerwacja miejsc:\n?scena54@scandale.pl\n\nZaprasz
 amy!\n\n16.02 (Saturday) in Scena54 at Dolnych Młynów 10 is the day of a
  sensual and ravish party during which all the guests will wear mask to sp
 ark interest and leave something for the imagination.\n\nSensual music wil
 l be provided by:\nDJ Lelle\nIn his sets you can hear carefully selected m
 usic\, more commercial and less\, typically in the Vocal House or Disco Ho
 use genre\, meticulously prepared before each performance.\n\nGeorgina Tar
 asiuk\nA vocalist\, composer\, textwriter. Made her first steps as a 10 ye
 ar old child in the TV show “Szansa na Sukces”\, where she also won th
 e 10 year anniversary edition. As a 14 year old she recorded her first sol
 o album with Sony Music Polska.\n\nStanlej Martino\nA popular sax player w
 ho loves club vibes. His sax can reinvent well known hits and breathe new 
 life in them.\nStart: 22:00\nBookings:\nscena54@scandale.pl\n\nJoin us!
ATTACH;FMTTYPE=image/jpeg:https://night4u.pl/wp-content/uploads/2019/02/19
 623_image_51495982_562994320843827_7507304852871970816_o.jpg
CATEGORIES:małopolskie
LOCATION:Scena54 - Kraków\, ul. Dolnych Młynów 10\, Kraków\, 31-124\, P
 oland
GEO:50.064736;19.926662
X-APPLE-STRUCTURED-LOCATION;VALUE=URI;X-ADDRESS=ul. Dolnych Młynów 10\, K
 raków\, 31-124\, Poland;X-APPLE-RADIUS=100;X-TITLE=Scena54 - Kraków:geo:
 50.064736,19.926662
END:VEVENT
BEGIN:VTIMEZONE
TZID:Europe/Warsaw
X-LIC-LOCATION:Europe/Warsaw
BEGIN:STANDARD
DTSTART:20181028T020000
TZOFFSETFROM:+0200
TZOFFSETTO:+0100
TZNAME:CET
END:STANDARD
END:VTIMEZONE
END:VCALENDAR