BEGIN:VCALENDAR
VERSION:2.0
PRODID:-//wp-events-plugin.com//7.2.3.1//EN
TZID:Europe/Warsaw
X-WR-TIMEZONE:Europe/Warsaw
BEGIN:VEVENT
UID:16387@night4u.pl
DTSTART;TZID=Europe/Warsaw:20190518T220000
DTEND;TZID=Europe/Warsaw:20190519T040000
DTSTAMP:20190516T204125Z
URL:https://night4u.pl/wydarzenia/f%e2%98%85mous-sobota-18-05/
SUMMARY:F★mous | Sobota 18.05
DESCRIPTION:Zgub się z nami w Cherry. Poczuj moc doskonałej muzyki. Upij 
 się szampanem. Zakochaj i bądź szalony. BE F★MOUS\n\nGościem specjal
 nym będzie dobrze znany Matthew Clarck.\nNoc zapowiada się zaskakująco 
 dobrze.\n\nReservations:\n?https://bit.ly/2v0t6Hr\nlub\n☎️501 555 202\
 n\n Cherry Club\nWrocław / ul. Kuźnicza 10
ATTACH;FMTTYPE=image/jpeg:https://night4u.pl/wp-content/uploads/2019/05/40
 123_image_60011593_2154342671269960_3637672231233912832_o.jpg
CATEGORIES:dolnośląskie
LOCATION:Cherry CLUB Wrocław\, Wroclaw\, Poland
GEO:51.110983;17.033849
X-APPLE-STRUCTURED-LOCATION;VALUE=URI;X-ADDRESS=Wroclaw\, Poland;X-APPLE-RA
 DIUS=100;X-TITLE=Cherry CLUB Wrocław:geo:51.110983,17.033849
END:VEVENT
BEGIN:VTIMEZONE
TZID:Europe/Warsaw
X-LIC-LOCATION:Europe/Warsaw
BEGIN:DAYLIGHT
DTSTART:20190331T030000
TZOFFSETFROM:+0100
TZOFFSETTO:+0200
TZNAME:CEST
END:DAYLIGHT
END:VTIMEZONE
END:VCALENDAR