BEGIN:VCALENDAR
VERSION:2.0
PRODID:-//wp-events-plugin.com//7.2.3.1//EN
TZID:Europe/Warsaw
X-WR-TIMEZONE:Europe/Warsaw
BEGIN:VEVENT
UID:6864@night4u.pl
DTSTART;TZID=Europe/Warsaw:20190613T200000
DTEND;TZID=Europe/Warsaw:20190613T230000
DTSTAMP:20190210T153151Z
URL:https://night4u.pl/wydarzenia/fanfare-ciocarlia-zmiana-terminu-koncert
 u/
SUMMARY:Fanfare Ciocărlia – zmiana terminu koncertu!
DESCRIPTION:Fanfare Ciocărlia – legendarna bałkańska orkiestra dęta p
 owraca do Wrocławia!\n\nBałkańskie wieczory z energetyczną taneczną m
 uzyką graną na żywo przez najlepsze zespoły stały się już wizytówk
 ą wrocławskiego klubu Stary Klasztor.\n13 czerwca na scenie Sali Gotycki
 ej w Starym Klasztorze zaprezentuje się pochodząca z Rumunii FANFARE CIO
 CĂRLIA\, jedna z najważniejszych bałkańskich orkiestr dętych\, głów
 ny rywal Boban Marković Orchestra w Balkan Brass Battle!\n\n\nFanfare Cio
 cărlia to 12-osobowa orkiestra dęta pochodząca z położonej w północ
 nej Rumunii wioski Zece Prăjini. Grupa zaczynała jako swobodne zgromadze
 nie muzyków grających okazjonalnie na weselach i chrzcinach. W paździer
 niku 1996 roku niemiecki inżynier dźwięku i producent nagraniowy Henry 
 Ernst odwiedził Zece Prăjini i przekonał muzyków do stworzenia zespoł
 u objazdowego. Za nazwę zespołu obrano Fanfare Ciocarlia: Fanfare jest t
 o rumuńskie słowo pochodzenia francuskiego\, które oznacza orkiestrę d
 ętą\, a Ciocarlia to po rumuńsku skowronek.\nOd momentu odkrycia ich pr
 zez Ernsta\, który został ich menadżerem\, zespół zagrał ponad tysi
 ąc koncertów w ponad 50 państwach na całym świecie.\nW zakorzenionej 
 w tradycji austriackich i tureckich orkiestr wojskowych Fanfare Ciocarlia 
 znaleźć można takie instrumenty jak: trąbki\, tuby barytonowe i tenoro
 we\, klarnety\, saksofony\, bęben i perkusję. Teksty ich piosenek pisane
  są w języku rumuńskim oraz romskim. Styl ich muzyki wywodzi się głó
 wnie z rumuńskiej i romskiej ludowej muzyki tanecznej\, lecz widoczne są
  także wpływy tureckie\, bułgarskie\, serbskie oraz macedońskie. Swoj
 ą popularność zawdzięczają szybkim energetycznym dźwiękom\, skompli
 kowanym rytmom oraz prędkim solówkom na klarnetach\, saksofonach i trąb
 kach\, których tempo przekracza czasem 200 bitów na minutę. Znani są r
 ównież z tego\, że podczas swoich koncertów nie korzystają z żadnego
  zapisu nutowego\, a także z grania na scenie na starych\, poobijanych in
 strumentach.\n\n13.06.19  godz.20.00 Sala Gotycka w Starym Klasztorze\, ul
 . Purkyniego 1\nEthno Jazz Festival – Muzyka Świata w Starym Klasztorze
 \nFANFARE CIOCĂRLIA (Rumunia)\nmiejsca siedzące: 75 zł – I miejsca\, 
 60 zł – II miejsca\, \nmiejsca stojące/tańczące: 45 zł - przedsprze
 daż\, 50 zł - w dniu koncertu\n\nBilety dostępne w sieci salonów Empik
 \, Saturn i MediaMarkt w całej Polsce\noraz w serwisach: www.staryklaszto
 r.com.pl/bilety/\, www.biletin.pl\, www.biletyna.pl\, www.eventim.pl\, www
 .ebilet.pl\, www.kupbilecik.pl \nrezerwacje: bilety@o2.pl\n\nUwaga\, kupuj
  bilety wyłącznie w autoryzowanych punktach! \nZakup biletów poza autor
 yzowanymi punktami sprzedaży (Facebook\, aukcje internetowe\, systemy ods
 przedaży biletów itp.) stwarza ryzyko zakupu biletów nieoryginalnych lu
 b nieważnych\, które nie umożliwią wejścia na koncert.
ATTACH;FMTTYPE=image/jpeg:https://night4u.pl/wp-content/uploads/2019/02/20
 025_image_42834244_1871063099675483_7203315588876206080_n.jpg
CATEGORIES:dolnośląskie
LOCATION:Stary Klasztor\, Purkyniego 1\, Wroclaw\, 50-155\, Poland
GEO:51.110198;17.039162
X-APPLE-STRUCTURED-LOCATION;VALUE=URI;X-ADDRESS=Purkyniego 1\, Wroclaw\, 50
 -155\, Poland;X-APPLE-RADIUS=100;X-TITLE=Stary Klasztor:geo:51.110198,17.0
 39162
END:VEVENT
BEGIN:VTIMEZONE
TZID:Europe/Warsaw
X-LIC-LOCATION:Europe/Warsaw
BEGIN:DAYLIGHT
DTSTART:20190331T030000
TZOFFSETFROM:+0100
TZOFFSETTO:+0200
TZNAME:CEST
END:DAYLIGHT
END:VTIMEZONE
END:VCALENDAR