BEGIN:VCALENDAR
VERSION:2.0
PRODID:-//wp-events-plugin.com//7.2.3.1//EN
TZID:Europe/Warsaw
X-WR-TIMEZONE:Europe/Warsaw
BEGIN:VEVENT
UID:20667@night4u.pl
DTSTART;TZID=Europe/Warsaw:20191207T190000
DTEND;TZID=Europe/Warsaw:20191207T220000
DTSTAMP:20191206T161654Z
URL:https://night4u.pl/wydarzenia/farben-lehre-support-legnica-spizarnia/
SUMMARY:Farben Lehre + Żółta Febra\, Skøv / Legnica - Spiżarnia
DESCRIPTION:STACJA WOLNOŚĆ TOUR !!!\n07.12.19 / sobota - godz. 19:00\nSpi
 żarnia\, ul. Piastowska 1\nFARBEN LEHRE + ŻÓŁTA FEBRA + SKØV\n\nBILET
 Y !!!\n30 PLN (przedsprzedaż)\n40 PLN (w dniu koncertu)\n\nprzedsprzedaż
  biletów:\n\nLegnica:\nGaleria Satyrykon (Rynek 35\, 501 504 115)\nKlub 
 „Spiżarnia” (ul. Piastowska 1\, 531 048 333)\nKlub "4pokoje" (il. Mł
 ynarska 7)\nSklep Muzyczny „Piano-Forte” (ul. Pocztowa 5a\; 76 722-22-
 60)\nSklep Muzyczny "Rock &amp\; More"\, (ul. Górnicza 6\, tel. 76 850 38
  30)\n\nLUBIN:\nSklep Muzyczny „Piano-Forte” (ul. Mieszka I 3\; 76 844
 -13-14)\n\nZŁOTORYJA:\nZłotoryjski Ośrodek Kultury i Rekreacji (ul. Rey
 monta 5\; 76 878-33-74)\n\nCHOJNÓW:\nBiuro Podróży “Gromad” (Rynek 
 24\, tel. 76 818 85 91)\n\nJAWOR:\nJaworski Ośrodek Kultury (Rynek 5\, 76
  870-28-75)\n\nKupbilecik.pl\nhttps://www.kupbilecik.pl/imprezy/45052/Legn
 ica/FARBEN+LEHRE+%2B+%C5%BB%C3%93%C5%81TA+FEBRA+%2B++SK%C3%98V/\n\n\nUWAGA
  !!!\nRezerwacja MAILOWA biletów w cenie przedsprzedaży. W mailu proszę
  podać: imię nazwisko\, miasto koncertu i ilość biletów na adres mail
 owy: kalina.k666@wp.pl \nlub\n"strefa de..." &gt\;&gt\; bgk@lck.art.pl\n\n
 UWAGA !!!\nRezerwacja TELEFONICZNA biletów w cenie przedsprzedaży \n(w d
 niu koncertu rezerwacja w cenie 40 PLN) - 665 823 666.\n\nFB Farben Lehre:
  www.facebook.com/farbenlehreofficial\nFB Żółta Febra: www.facebook.com
 /zoltafebra\nFB Skøv: www.facebook.com/skov.poland\nFB Spiżarnia: www.fa
 cebook.com/spizarnia\nFB strefa de...: www.facebook.com/strefade.legnica/\
 n___________________________\n\nFARBEN LEHRE powstało we wrześniu 1986 r
 oku. Od tamtego czasu ukazało się 13 płyt studyjnych: "Bez pokory"\, "M
 y maszyny"\, "Insekty"\, "Zdrada"\, "Atomowe zabawki"\, "Pozytywka"\, "Far
 benheit"\, "Snukraina"\, "Ferajna"\, "Achtung 2012"\, "Projekt PUNK"\, "Tr
 zy dekady"\, "Stacja Wolność"\, koncertowa kaseta "Samo życie"\, trzy o
 ficjalne dvd: "Przystanek Woodstock 2006"\, "Punky Reggae live 2008"\, "Pr
 zystanek Woodstock 2013 - Projekt PUNK" oraz liczne kompilacje.\n\nOd wiel
 u lat zespół bardzo dużo koncertuje zarówno w Polsce\, jak i za granic
 ą. Na swoim koncie płoccy muzycy mają występy u boku tak znaczących f
 ormacji jak the Exploited\, Die Toten Hosen\, New Model Army\, U.K.Subs\, 
 G.B.H.\, Vibrators czy Dritte Wahl\, . W ostatnich 15 latach FL zagrało p
 onad 1500 koncertów\, co sytuuje go w gronie najczęściej koncertującyc
 h polskich (i nie tylko) zespołów. Od 2004 roku FARBEN LEHRE jest pomys
 łodawcą oraz jednym z głównych wykonawców trasy koncertowej Punky Reg
 gae live\, która rokrocznie odwiedzała kilkadziesiąt klubów w większo
 ści dużych polskich miast\, a w 2018 roku - po kilka latach przerwy - po
 nownie powróciła na polską mapę koncertową. \n\nŻywiołowe koncerty 
 zawsze grane "na maksa" to bez wątpienia znak rozpoznawczy kapeli z Płoc
 ka. Od piętnastu lat zespół gra blisko 100 koncertów rocznie i wciąż
  aktywnie udziela się na wielu scenach naszego kraju oraz za jego granica
 mi. Aktualnie muzycy podczas koncertów promują swoją najnowszą płytę
  studyjną "Stacja Wolność"\, która ukazała się na początku wrześni
 a 2018 roku \n\nMuzyka FARBEN LEHRE jest energiczna\, melodyjna\, pełna r
 adości grania i wolna od kompleksów. Ostre\, aczkolwiek przystępne dźw
 ięki oraz garść szczerych słów stanowią próbę duchowego porozumien
 ia się z drugim człowiekiem. Najważniejsze utwory to "Anioły i demony"
 \, "Dobranoc"\, "Erato"\, "Ferajna"\, "Handel"\, "Helikoptery"\, "Judasz"\
 , "Matura" \, "Spodnie z GS-u"\, "Stacja Wolność" czy "Terrorystan".\n\n
 SKŁAD:\nWojciech Wojda – wokal\, teksty\nKonrad Wojda – gitara\, woka
 l\nFilip Grodzicki – gitara basowa\nGerard Klawe – perkusja\n\nwww.far
 benlehre.plocman.pl (strona zespołu)\nwww.facebook.com/farbenlehreofficia
 l (FB)\nwww.youtube.com/channel/UCfvSs_APnByQv4O8u2BDb3w (YT)\nwww.youtube
 .com/watch?v=rjPP5iQnFQg (Anioły i Demony)\nwww.youtube.com/watch?v=kSeUm
 KJ7tWk (Ali-Baba)\nwww.youtube.com/watch?v=FO5UoKppSBA (Ludzie we mgle)\nw
 ww.youtube.com/watch?v=rcpNzcUWfFg (Stacja Wolność)\nwww.youtube.com/wat
 ch?v=ZOiuVKXdnDE (Femina)\nwww.youtube.com/watch?v=g3g7BXEoz7o (Spodnie z 
 GS-u)\nwww.youtube.com/watch?v=_zv4atF7CcM (Farben Lehre)\n\nŻÓŁTA FEBR
 A (Sokołowic)\nŻółta Febra to piątka młodych ludzi\, których połą
 czyła miłość do prostych\, energetycznych dźwięków.\nKażdy z nas m
 a za sobą udział w mniej lub bardziej znanych muzycznych projektach.\nTe
 n obecny ma nam przynieść sławę i pieniądze\, a naszym słuchaczom do
 brą zabawę i szalone pogo pod sceną.\nW naszych żyłach płynie rockow
 a krew z domieszką młodzieńczego buntu spod znaku punk.\nStawiamy na w
 łasne teksty i kompozycje\, ale nie stronimy też od świetnie sprawdzaj
 ących się na koncertach coverów The Ramones.\nhttps://www.facebook.com/
 zoltafebra/\n\n\nSKØV (Wrocław)\nPolski punk metalowy zespół z Wrocła
 wia\, powstały pod koniec 2017 roku. W tym roku ukazał się ich debiutan
 cki album "Skøv". W skład zespołu wchodzą wokalista Marcin Niewiadomsk
 i\, gitarzyści Mateusz Bajan i Wojciech Węgrzyn\, basista Piotr Bolek or
 az perkusista Michał Godzisz. Ich główne wpływy to rock and roll\, bla
 ck metal i punk rock.\nwww.facebook.com/skov.poland/
ATTACH;FMTTYPE=image/jpeg:https://night4u.pl/wp-content/uploads/2019/06/49
 483_image_64785439_3048471895180625_2386188915175325696_o.jpg
CATEGORIES:dolnośląskie
LOCATION:Klub Spiżarnia\, Piastowska 1\, Legnica\, 59-220\, Poland
GEO:51.207752;16.155634
X-APPLE-STRUCTURED-LOCATION;VALUE=URI;X-ADDRESS=Piastowska 1\, Legnica\, 59
 -220\, Poland;X-APPLE-RADIUS=100;X-TITLE=Klub Spiżarnia:geo:51.207752,16.
 155634
END:VEVENT
BEGIN:VTIMEZONE
TZID:Europe/Warsaw
X-LIC-LOCATION:Europe/Warsaw
BEGIN:STANDARD
DTSTART:20191027T020000
TZOFFSETFROM:+0200
TZOFFSETTO:+0100
TZNAME:CET
END:STANDARD
END:VTIMEZONE
END:VCALENDAR