BEGIN:VCALENDAR
VERSION:2.0
PRODID:-//wp-events-plugin.com//7.2.3.1//EN
TZID:Europe/Warsaw
X-WR-TIMEZONE:Europe/Warsaw
BEGIN:VEVENT
UID:42613@night4u.pl
DTSTART;TZID=Europe/Warsaw:20200115T230000
DTEND;TZID=Europe/Warsaw:20200116T040000
DTSTAMP:20200116T004203Z
URL:https://night4u.pl/wydarzenia/farewell-party-esn-pb-esn-uwb/
SUMMARY:Farewell Party | ESN PB &amp\; ESN UwB
DESCRIPTION:It’s time to say goodbye. We would like to invite you to the 
 Farewell Party that ends this wonderful semester full of many beautiful mo
 ments… This night let's move back to the 1920s!!!\nGentlemen put on your
  best suits and Ladies choose the most wonderful dress!\nLet’s have fun!
 !! A little party never killed nobody! \n\nWHEN: 15/01/2020\nTIME: 23.00\n
 WHERE: Black Diamond Club \nDRESS CODE: TWENTIES\n\nTICKETS:\n3zł / 5zł 
 (with / without ESNcard) in ESN PB and ESN UwB Offices\n20 zł at the entr
 ance\n\nDISCOUNTS: \n* all night discounts for whole bar stuff with ESNcar
 d
ATTACH;FMTTYPE=image/jpeg:https://night4u.pl/wp-content/uploads/2020/01/13
 4641_image_81396834_2630124403691082_8057486255069331456_o.jpg
CATEGORIES:podlaskie
LOCATION:Black Diamond Club\, Piękna 2\, Białystok\, 15-282\, Poland
GEO:53.128851;23.153415
X-APPLE-STRUCTURED-LOCATION;VALUE=URI;X-ADDRESS=Piękna 2\, Białystok\, 15
 -282\, Poland;X-APPLE-RADIUS=100;X-TITLE=Black Diamond Club:geo:53.128851,
 23.153415
END:VEVENT
BEGIN:VTIMEZONE
TZID:Europe/Warsaw
X-LIC-LOCATION:Europe/Warsaw
BEGIN:STANDARD
DTSTART:20191027T020000
TZOFFSETFROM:+0200
TZOFFSETTO:+0100
TZNAME:CET
END:STANDARD
END:VTIMEZONE
END:VCALENDAR