BEGIN:VCALENDAR
VERSION:2.0
PRODID:-//wp-events-plugin.com//7.2.3.1//EN
TZID:Europe/Warsaw
X-WR-TIMEZONE:Europe/Warsaw
BEGIN:VEVENT
UID:37222@night4u.pl
DTSTART;TZID=Europe/Warsaw:20191206T220000
DTEND;TZID=Europe/Warsaw:20191207T040000
DTSTAMP:20200401T080610Z
URL:https://night4u.pl/wydarzenia/fatamorgana-003-w-dj-ryan-r/
SUMMARY:Fatamorgana #003 w/ DJ Ryan R &amp\; A_tropic
DESCRIPTION:⠀~ ~ ⠀⠀~⠀⠀⠀~⠀~⠀⠀~⠀⠀⠀~~~⠀⠀~ ⠀\n   
    ~~⠀~⠀⠀ ~  ⠀ ~ ⠀~⠀  ~⠀~⠀\n          ~  ~~  b e w  a  r e
      ~  ~~  \n    ~  ~⠀⠀⠀⠀~ ~   o  f     t h  i s ~ \n            
  ~⠀t r i  be⠀⠀~⠀  ~~⠀    ~\n⠀ ⠀⠀    ⠀~⠀ ~⠀⠀~ ~ ⠀
 ⠀⠀⠀~~⠀ ~    ~⠀\n  ~~⠀⠀⠀~a s⠀⠀  t h e  y⠀~⠀  ~~⠀
 ⠀~  ~ ~\n       ~ ⠀ ~⠀~⠀⠀~\n                      ~~~⠀⠀~⠀
 ⠀~⠀⠀⠀⠀~⠀\n ⠀~~⠀⠀ ⠀⠀~ ~ p o   i s  o  n⠀⠀~⠀~⠀
 ⠀~⠀⠀~~⠀⠀\n ~  ⠀⠀~⠀~~~⠀⠀⠀~~⠀~    ~    ~ ~\n  ⠀⠀
 ~~t  h ei r     ⠀⠀~~⠀  ~ ~ \n   ~⠀    ~⠀~⠀    c a p t i  v   e
  s ~ ⠀⠀~\n ⠀  ⠀⠀~⠀⠀~ ~ ⠀⠀~⠀⠀⠀~⠀⠀⠀⠀⠀    
 ⠀\n        ~⠀⠀⠀~⠀~⠀    \n   ~    t h r o   u g h  ~   ~ ~     
   ~\n        ~  ~    ~ t h  e   i r   ~    ~~\n      ~⠀~ ⠀~~   ⠀~⠀
 ~~~     e  a  r s  ⠀~⠀⠀\n                   ⠀~ ~⠀⠀⠀~\n ~⠀
 ⠀~       ⠀~⠀~⠀⠀~~~⠀⠀~⠀⠀~⠀⠀⠀⠀~⠀⠀    ⠀\n    
     ~⠀⠀⠀~⠀~⠀    ⠀~⠀⠀⠀⠀⠀~~⠀⠀~⠀⠀    ⠀\n     
      ~⠀~ ~    6 / 1 2⠀~⠀⠀~ ~ ⠀⠀~⠀   ⠀⠀\n             ~
 ⠀~~     ~    ~⠀⠀\n ⠀~~⠀⠀ ⠀⠀~ ~ ⠀⠀~⠀~⠀⠀~⠀⠀~
 ⠀⠀~~⠀⠀\n       ~   2 2 : 0 0 - ? ? ?⠀⠀~⠀~⠀⠀⠀~⠀⠀   
 \n      ~⠀~ ⠀~~  ~ ⠀~⠀~⠀~⠀⠀⠀~ ~⠀⠀⠀~ ~ ⠀⠀\n    ~~
 ⠀~⠀⠀~ ~\n        ~~⠀⠀ ~⠀~     Uczulenie      ~ ~⠀⠀⠀⠀~
 ⠀\n   ⠀~⠀~~⠀~⠀⠀⠀~~⠀~⠀ ⠀⠀~⠀~   ⠀~ \n ~  ⠀      
  ⠀⠀~⠀⠀~    ⠀~~⠀~    ~    ~ ~\n ⠀  ⠀⠀~⠀⠀~ ~ ~⠀⠀
 ⠀⠀~⠀ ⠀⠀~⠀~⠀⠀~~~\n        ~~⠀⠀~⠀⠀⠀⠀~ ~~⠀~ \n 
                ~~⠀ ⠀⠀~⠀~~~⠀ \n ⠀ ⠀~⠀~~  DJ Ryan R ⠀~~ ~ 
 ⠀⠀~⠀~~\n    ~⠀     ~⠀⠀⠀~⠀⠀~⠀~    ⠀~⠀⠀\n         
        ~    ~⠀⠀~ ⠀~~\n        ~⠀⠀    ~      ~     A_tropic    ~ 
     \n            ~⠀⠀~ ~ ⠀⠀~⠀⠀~⠀~⠀⠀~~ ~ ⠀⠀~\n     
 ⠀~      ⠀~⠀P h antasia    ~~ ⠀⠀~\n           ~⠀⠀~⠀⠀~⠀
 ⠀ ⠀~~~⠀ ⠀~\n     ~  Miraż      ~  ⠀⠀~⠀~       ~~⠀⠀~⠀
 ⠀\n                ~~⠀ ⠀⠀~⠀~⠀   ~⠀~⠀⠀~⠀⠀ ~⠀~\n⠀ 
 ~\n ⠀⠀  ⠀~⠀⠀⠀~ ~~  ~⠀⠀~ ⠀⠀~~\n  ~   ⠀⠀⠀ t a x  :
   1 0 p  l n~⠀⠀⠀⠀~⠀ ~~ ⠀⠀⠀⠀~⠀\n     ⠀~⠀⠀~⠀⠀ 
 ~⠀\n                     ⠀~⠀⠀ ⠀~⠀~⠀\n     ~ ~    d o      2 
 4⠀: 0 0  ⠀~~⠀~⠀⠀⠀~⠀ ~⠀⠀\n⠀  ⠀⠀~  l i s  t   a     
  f b ⠀⠀~~\n  ~   ⠀⠀⠀~⠀⠀⠀  f r e e   ~ ~⠀⠀⠀\n        
                ~           ~⠀⠀~       ⠀  \n     ~  a r t :  ~⠀⠀
 ⠀~ ~⠀⠀⠀ ~⠀⠀⠀~⠀⠀ ~⠀⠀ \n  ~⠀      ⠀         ⠀   
  ~         ~\n          ~ ~~    @halinqapawl (ig) ~~   ~\n                
 ~⠀⠀~ ~⠀⠀⠀⠀~ \n      ⠀⠀ ~⠀⠀~⠀        ~
ATTACH;FMTTYPE=image/jpeg:https://night4u.pl/wp-content/uploads/2019/12/10
 2608_image_79100708_158589695513370_3143646332430843904_o.jpg
CATEGORIES:dolnośląskie
LOCATION:Czuła jest noc\, ulica Kolejowa 8\, Wroclaw\, 53-508\, Poland
GEO:51.10137;17.0232
X-APPLE-STRUCTURED-LOCATION;VALUE=URI;X-ADDRESS=ulica Kolejowa 8\, Wroclaw\
 , 53-508\, Poland;X-APPLE-RADIUS=100;X-TITLE=Czuła jest noc:geo:51.10137,
 17.0232
END:VEVENT
BEGIN:VTIMEZONE
TZID:Europe/Warsaw
X-LIC-LOCATION:Europe/Warsaw
BEGIN:STANDARD
DTSTART:20191027T020000
TZOFFSETFROM:+0200
TZOFFSETTO:+0100
TZNAME:CET
END:STANDARD
END:VTIMEZONE
END:VCALENDAR