BEGIN:VCALENDAR
VERSION:2.0
PRODID:-//wp-events-plugin.com//7.2.3.1//EN
TZID:Europe/Warsaw
X-WR-TIMEZONE:Europe/Warsaw
BEGIN:VEVENT
UID:16879@night4u.pl
DTSTART;TZID=Europe/Warsaw:20190601T220000
DTEND;TZID=Europe/Warsaw:20190602T060000
DTSTAMP:20190601T122613Z
URL:https://night4u.pl/wydarzenia/feeel-the-volume-5/
SUMMARY:Feeel The Volume
DESCRIPTION:MAIN FLOOR:\nSpecial guest:\n★★★Raveboiz★★★\nFacebo
 ok: https://www.facebook.com/raveboizofficial/\nInstagram: https://www.ins
 tagram.com/realraveboiz/\nSoundcloud: https://soundcloud.com/raveboiz-offi
 cial\nSnapchat: realraveboiz\n\nRaveboiz to jeden z najszybciej rozwijają
 cyh się DJów i Producentów z Polski. Ma na swoim koncie wydania w takic
 h wytwórniach jak Playbox Music\, .CULTR Records\, czy Kontor New Media. 
 \nUtwory takie jak „Delhi”\, „Blockin”\, czy „All About The Bass
 ” zajmowały wysokie pozycje w rankingu Beatport oraz zyskały uznanie w
  postaci suportów od takich osobistości jak m.in.: Oliver Heldens\, R3ha
 b\, Yves V\, Sunstars\, Skytech czy Bingo Players.  Jego talent dostrzegł
  też znany niemiecki duet twoloud. Utwór „Fat Beat”\, który powsta
 ł we współpracy z JAN3K został umieszczony na ich składance pt.: #ele
 ctrohouse – Best of Club & Dance – mixed by twoloud” a na obecną ch
 wilę ma w serwisie Spotify ponad 450 000 odtworzeń.  Raveboiz odnajduje 
 się również w szybszych klimatach takich jak Psy  Trance czy Happy Hard
 core. Dowodem na to jest jego bootleg utworu „Keep On Moving” Starstyl
 ers\, który  w serwisie Youtube ma już około 4 000 000 wyświetleń!\nO
 d 2017 roku zaraża klubowiczów swoimi energetycznymi setami\, przepełni
 onymi fuzją Future House\, Electro a przede wszystkim G- House. Do tej po
 ry miał przyjemność zagrać w najlepszych klubach w całej Polsce i na 
 kilku festiwalach jak np.: ORW Bałtów w 2017 i 2018 roku.\nJedno jest pe
 wne – Ten człowiek nie raz jeszcze zaskoczy na polskiej i światowej sc
 enie EDM.\n\n\n\n★★★ Bart Qukx ★★★ /Rezydent COCO Music Club &
  Kraków /\nFacebook: https://www.facebook.com/bartqukx/\nInstagram: https
 ://www.instagram.com/bart_qukx/\nDemodrop: \n\nRNB FLOOR:\nDJ S-MASTER  /R
 esident Coco Music Club/\n\nPrzed nami kolejne edycja ►►► FEEEL THE 
 VOLUME ◄◄◄\nJeśli chcesz wiedzieć co nowego słychać w muzyce klu
 bowej na świecie\, jesteś miłośnikiem fidget\, trap\, future bass oraz
  future house to nie może Cię zabraknąć! #FTV\n\nONLY THE BEST MUSIC!\
 n\n-----------------------------------------------------------------------
 ---------\nPROMOCJA DLA PAŃ:\n2 drinki = 10 zł!\n\nOdbierz od selekcjone
 ra ulotkę\, dzięki której kupisz 2 drinki w cenie 10 zł! Lista wszystk
 ich drinków dostępna na barze\n\nUWAGA! Promocje obowiązują po dopisan
 iu się do listy gości na FB lub where2be:\nhttps://www.where2b.org/event
 /78672\n\nDODATKOWO: wstęp FREE do 24:00 z listy!
ATTACH;FMTTYPE=image/jpeg:https://night4u.pl/wp-content/uploads/2019/05/41
 353_image_60816841_3050957621581368_5532972575187009536_o.jpg
CATEGORIES:małopolskie
END:VEVENT
BEGIN:VTIMEZONE
TZID:Europe/Warsaw
X-LIC-LOCATION:Europe/Warsaw
BEGIN:DAYLIGHT
DTSTART:20190331T030000
TZOFFSETFROM:+0100
TZOFFSETTO:+0200
TZNAME:CEST
END:DAYLIGHT
END:VTIMEZONE
END:VCALENDAR