BEGIN:VCALENDAR
VERSION:2.0
PRODID:-//wp-events-plugin.com//7.2.3.1//EN
TZID:Europe/Warsaw
X-WR-TIMEZONE:Europe/Warsaw
BEGIN:VEVENT
UID:31040@night4u.pl
DTSTART;TZID=Europe/Warsaw:20191102T220000
DTEND;TZID=Europe/Warsaw:20191103T060000
DTSTAMP:20191102T052338Z
URL:https://night4u.pl/wydarzenia/feeel-the-volume-8/
SUMMARY:Feeel The Volume
DESCRIPTION:MAIN FLOOR:\n★★★ Bart Qukx ★★★ /Rezydent COCO Music
  Club &amp\; Kraków /\nFacebook: https://www.facebook.com/bartqukx/\nInst
 agram: https://www.instagram.com/bart_qukx/\nDemodrop: https://demodrop.co
 m/QUKX/\n\nRNB FLOOR:\nDJ S-MASTER  /Resident Coco Music Club/\n\nZaprasza
 my na kolejną edycję:\n►►► FEEEL THE VOLUME ◄◄◄\n\nJeśli ch
 cesz wiedzieć co nowego słychać w muzyce klubowej na świecie\, jesteś
  miłośnikiem fidget\, trap\, future bass oraz future house to nie może 
 Cię zabraknąć! #FTV\n\nONLY THE BEST MUSIC!\n\n------------------------
 --------------------------------------------------------\nPROMOCJA DLA PA
 Ń:\n2 pierwsze drinki = 10 zł!\n\nOdbierz od selekcjonera ulotkę\, dzi
 ęki której kupisz 2 drinki w cenie 20 zł! Lista wszystkich drinków dos
 tępna na barze\n\nUWAGA! Promocje obowiązują po dopisaniu się do listy
  gości na FB lub where2be:\nhttps://www.where2b.org/event/81872\n\nDODATK
 OWO: wstęp FREE do 24:00 z listy!
ATTACH;FMTTYPE=image/jpeg:https://night4u.pl/wp-content/uploads/2019/10/72
 039_image_71928220_3444153978928395_1284508045447004160_o.jpg
CATEGORIES:małopolskie
END:VEVENT
BEGIN:VTIMEZONE
TZID:Europe/Warsaw
X-LIC-LOCATION:Europe/Warsaw
BEGIN:STANDARD
DTSTART:20191027T020000
TZOFFSETFROM:+0200
TZOFFSETTO:+0100
TZNAME:CET
END:STANDARD
END:VTIMEZONE
END:VCALENDAR