BEGIN:VCALENDAR
VERSION:2.0
PRODID:-//wp-events-plugin.com//7.2.3.1//EN
TZID:Europe/Warsaw
X-WR-TIMEZONE:Europe/Warsaw
BEGIN:VEVENT
UID:50442@night4u.pl
DTSTART;TZID=Europe/Warsaw:20200815T210000
DTEND;TZID=Europe/Warsaw:20200816T060000
DTSTAMP:20200815T115054Z
URL:https://night4u.pl/wydarzenia/feel-the-summer-15-08/
SUMMARY:Feel The Summer // 15.08
DESCRIPTION:Feel the summer! \nPrzed nami piękna\, letnia noc! Otwieramy d
 wie strony dachu. \nDo zobaczenia! \n\n\n---------------------------------
 ---------------\n⭐️ SOBOTA ⭐️\n\n➡️Start 21:00\n➡️Do 23:00
  WEJŚCIE FREE\n➡️23.00-24.00 15zł\n➡️Po 24.00 20zł\n\n\n\n\n❌
  WEJŚCIE DO LOKALU MOŻLIWE JEST TYLKO Z MASECZKĄ❌ \nMożliwość zaku
 pu maseczki w cenie 5 zł.\n\n\n\nREZERWACJE STOLIKÓW: \n☎️725700205\
 nOd WTORKU do SOBOTY\n13:00 - 16:00
CATEGORIES:lubelskie
LOCATION:Riviera Klub Plażowy\, Lublin\, Poland
GEO:51.245225;22.557649
X-APPLE-STRUCTURED-LOCATION;VALUE=URI;X-ADDRESS=Lublin\, Poland;X-APPLE-RAD
 IUS=100;X-TITLE=Riviera Klub Plażowy:geo:51.245225,22.557649
END:VEVENT
BEGIN:VTIMEZONE
TZID:Europe/Warsaw
X-LIC-LOCATION:Europe/Warsaw
BEGIN:DAYLIGHT
DTSTART:20200329T030000
TZOFFSETFROM:+0100
TZOFFSETTO:+0200
TZNAME:CEST
END:DAYLIGHT
END:VTIMEZONE
END:VCALENDAR