BEGIN:VCALENDAR
VERSION:2.0
PRODID:-//wp-events-plugin.com//7.2.3.1//EN
TZID:Europe/Warsaw
X-WR-TIMEZONE:Europe/Warsaw
BEGIN:VEVENT
UID:18985@night4u.pl
DTSTART;TZID=Europe/Warsaw:20190621T220000
DTEND;TZID=Europe/Warsaw:20190622T040000
DTSTAMP:20190612T190708Z
URL:https://night4u.pl/wydarzenia/feel-the-summer-bank-club/
SUMMARY:Feel the summer / Bank Club
DESCRIPTION:★ SCENA ★ STAGE ★\n\nWraz z mają Ciroc Vodka zapraszamy 
 na piątek w Banku na pyszne\, letnie koktajle! Wraz z nimi dawka klubowej
  muzyki od Tom Forester.\n\nHosted by:\nTom Forester \n\n★ DRESS CODE 
 ★\nsmart casual\n\n★ REZERWACJE ★ RESERVATIONS ★\nhttps://emenago.
 com/i/bankclub\ninformacja w sprawie rezerwacji: +48 795 445 162\n\nPrzewi
 dzieliśmy bezpłatne wejście do klubu dla wszyskich posiadających rezer
 wacje stolika w godz. 22:00 - 23:00. \n\n★ OFERTY SPECJALNE ★ SPECIAL 
 OFFERS ★\nDla wszystkich posiadających rezerwacje przygotowaliśmy zest
 aw Wódka Ketel One 0\,7 l + 6x soft lub RedBull już za 270 zł\n\n★ BI
 LET ★ TAX ★\n20 PLN
ATTACH;FMTTYPE=image/jpeg:https://night4u.pl/wp-content/uploads/2019/06/45
 913_image_62611139_2474275735964785_5438224071923859456_o.jpg
CATEGORIES:mazowieckie
LOCATION:BANK CLUB\, Mazowiecka 14\, Warsaw\, 00-048\, Poland
GEO:52.23816;21.01309
X-APPLE-STRUCTURED-LOCATION;VALUE=URI;X-ADDRESS=Mazowiecka 14\, Warsaw\, 00
 -048\, Poland;X-APPLE-RADIUS=100;X-TITLE=BANK CLUB:geo:52.23816,21.01309
END:VEVENT
BEGIN:VTIMEZONE
TZID:Europe/Warsaw
X-LIC-LOCATION:Europe/Warsaw
BEGIN:DAYLIGHT
DTSTART:20190331T030000
TZOFFSETFROM:+0100
TZOFFSETTO:+0200
TZNAME:CEST
END:DAYLIGHT
END:VTIMEZONE
END:VCALENDAR