BEGIN:VCALENDAR
VERSION:2.0
PRODID:-//wp-events-plugin.com//7.2.3.1//EN
TZID:Europe/Warsaw
X-WR-TIMEZONE:Europe/Warsaw
BEGIN:VEVENT
UID:51826@night4u.pl
DTSTART;TZID=Europe/Warsaw:20250104T220000
DTEND;TZID=Europe/Warsaw:20250105T050000
DTSTAMP:20250103T210008Z
URL:https://night4u.pl/wydarzenia/feel-the-weekend-04-01-do-2230-lista-fb-
 wchodzi-f-r-e-e/
SUMMARY:FEEL THE WEEKEND // 04.01 // DO 22:30 - LISTA FB WCHODZI F R E E
DESCRIPTION:Co tydzień rozkręcamy najlepsze imprezki w mieście\, nie ina
 czej będzie w tę sobotę....\n\nZapraszamy Was na kolejną wyjątkową n
 oc w Helium!\n\nBędzie ogień! ❤\n\nCeny Biletów:\n\nSTART 22:00\nDO 2
 2:30 - LISTA FB WCHODZI F R E E\nPO 22:30 - 30 ZŁ\n\n✨ REZERWACJE STOLI
 KÓW ✨\n\nW sprawie rezerwacji prosimy dzwonić pod numer\n\n☎️ 725 
 700 205\n\nTelefon jest czynny od wtorku - soboty\,\nw godzinach od 17:00 
 - 20:00
ATTACH;FMTTYPE=image/jpeg:https://night4u.pl/wp-content/uploads/2025/01/FE
 EL-THE-WEEKEND-04.01-DO-22.30-–-LISTA-FB-WCHODZI-F-R-E-E.jpg
CATEGORIES:lubelskie
LOCATION:Hempla 5\, Lublin\, Hempla 5\, Lublin\, 
X-APPLE-STRUCTURED-LOCATION;VALUE=URI;X-ADDRESS=Hempla 5\, Lublin\, ;X-APPL
 E-RADIUS=100;X-TITLE=Hempla 5\, Lublin:geo:0,0
END:VEVENT
BEGIN:VTIMEZONE
TZID:Europe/Warsaw
X-LIC-LOCATION:Europe/Warsaw
BEGIN:STANDARD
DTSTART:20241027T020000
TZOFFSETFROM:+0200
TZOFFSETTO:+0100
TZNAME:CET
END:STANDARD
END:VTIMEZONE
END:VCALENDAR