BEGIN:VCALENDAR
VERSION:2.0
PRODID:-//wp-events-plugin.com//7.2.3.1//EN
TZID:Europe/Warsaw
X-WR-TIMEZONE:Europe/Warsaw
BEGIN:VEVENT
UID:35781@night4u.pl
DTSTART;TZID=Europe/Warsaw:20191115T210000
DTEND;TZID=Europe/Warsaw:20191116T060000
DTSTAMP:20191116T001519Z
URL:https://night4u.pl/wydarzenia/felicita-wloskie-party-15-11-do-2300-lis
 ta-fb-free/
SUMMARY:Felicita - Włoskie Party // 15.11 // Do 23:00 lista FB free
DESCRIPTION:To będzie wieczór pełen barw\, radosnej muzyki i tysiąca sm
 aków! Przenieśmy się monumentalnego Rzymu\, eleganckiego Mediolanu i ur
 okliwej Werony. Felicita\, L'italiano\, Nel blu dipinto di blu - Nasz rezy
 dent DJ DANNY wprowadzi Was w ciepły\, słoneczny klimat Italii &lt\;3 \n
 \n----------------------------------------------\n⭐️ PIĄTEK ⭐️ \n
 \n➡️Start 21:00\n➡️Do 23:00 - lista fb free // LISTE ZAMYKAMY O 20
 :00\n➡️Od 23:00 - 24:00 - 10 zł \n➡️Po 24:00 - 15 zł\n\nBilet ws
 tępu obowiązuje do lokali:\nHelium Club\nRzut Beretem\nEl Cubano\n\nseat
 s &amp\; tables/ rezerwacje stolików\n☎️: 725700205 (wt-sob. 17:00-20
 :00)\nWejście 18+ / DOOR SELECTION\n-------------------------------------
 ------------
ATTACH;FMTTYPE=image/jpeg:https://night4u.pl/wp-content/uploads/2019/11/95
 002_image_74205691_1966706563476216_5736461369687932928_o.jpg
CATEGORIES:lubelskie
LOCATION:Rzut Beretem\, Hempla 5\, Lublin\, 20-008\, Poland
GEO:51.245421;22.557279
X-APPLE-STRUCTURED-LOCATION;VALUE=URI;X-ADDRESS=Hempla 5\, Lublin\, 20-008\
 , Poland;X-APPLE-RADIUS=100;X-TITLE=Rzut Beretem:geo:51.245421,22.557279
END:VEVENT
BEGIN:VTIMEZONE
TZID:Europe/Warsaw
X-LIC-LOCATION:Europe/Warsaw
BEGIN:STANDARD
DTSTART:20191027T020000
TZOFFSETFROM:+0200
TZOFFSETTO:+0100
TZNAME:CET
END:STANDARD
END:VTIMEZONE
END:VCALENDAR