BEGIN:VCALENDAR
VERSION:2.0
PRODID:-//wp-events-plugin.com//7.2.3.1//EN
TZID:Europe/Warsaw
X-WR-TIMEZONE:Europe/Warsaw
BEGIN:VEVENT
UID:1403@night4u.pl
DTSTART;TZID=Europe/Warsaw:20190126T061700
DTEND;TZID=Europe/Warsaw:20190126T091700
DTSTAMP:20181227T232317Z
URL:https://night4u.pl/wydarzenia/festiwal-im-szymona-czecha-2019/
SUMMARY:Festiwal im.Szymona Czecha 2019
DESCRIPTION:Cześć wszystkim. tradycyjnie już spotykamy się kolejny raz 
 w styczniu. Cel imprezy od lat jest ten sam\, wspominamy naszych warmińsk
 ich kompanów których nie ma już z nami.\nZagrają dla nas:\nPetarda\nGn
 ida\nBanisher\nDecapitated\n26\,01\,2019 klub Nowy Andergrant Olsztyn\nBil
 ety\n50 zł – przedsprzedaż\nPRZEDSPRZEDAŻ :\n* Nowy AnderGrant\, ul. 
 Kołobrzeska 32\n* Pub Sarmata ul. M.C. Skłodowskiej 28\n* Sklep Muzyczny
  RockFan\, ul. Nowowiejskiego 1 (DH Inka)\n ONLINE:\n* ANDERGRANT: www.and
 ergrant.com/bilety\n55 zł – w dniu koncertu
ATTACH;FMTTYPE=image/jpeg:https://night4u.pl/wp-content/uploads/2018/12/66
 54_image_43725938_2037125769679612_7171505918620729344_n.jpg
CATEGORIES:warmińsko-mazurskie
LOCATION:\, \, 
X-APPLE-STRUCTURED-LOCATION;VALUE=URI;X-ADDRESS=\, ;X-APPLE-RADIUS=100;X-TI
 TLE=:geo:0,0
END:VEVENT
BEGIN:VTIMEZONE
TZID:Europe/Warsaw
X-LIC-LOCATION:Europe/Warsaw
BEGIN:STANDARD
DTSTART:20181028T020000
TZOFFSETFROM:+0200
TZOFFSETTO:+0100
TZNAME:CET
END:STANDARD
END:VTIMEZONE
END:VCALENDAR