BEGIN:VCALENDAR
VERSION:2.0
PRODID:-//wp-events-plugin.com//7.2.3.1//EN
TZID:Europe/Warsaw
X-WR-TIMEZONE:Europe/Warsaw
BEGIN:VEVENT
UID:19655@night4u.pl
DTSTART;TZID=Europe/Warsaw:20210912T150000
DTEND;TZID=Europe/Warsaw:20210912T200000
DTSTAMP:20210908T144843Z
URL:https://night4u.pl/wydarzenia/festiwal-kolorow-w-chorzowie-2021/
SUMMARY:Festiwal Kolorów w Chorzowie 2021!
DESCRIPTION:Oficjalny Festiwal Kolorów w Chorzowie 2021! Kolorujemy świat
  już 12 września na terenie Szybu Prezydent!\n ❤️🧡💛💚💙
 💜\n\nWidzimy się 12 września 2021!\nWstęp: free!\n \nFESTIWAL KOLOR
 ÓW to:\n 💥 niezliczona ilość kolorów!\n 💥 oryginalne Kolory Holi
  najwyższej jakości! (schodzą z ubrań👕)\n 💥 najlepsi DJ'e!\n 
 💥 popularni artyści\,\n 💥 smaczne jedzenie z najlepszych foodtruck
 ów!🍕\n 💥 pozytywna atmosfera i radość życia!\n \nNa Festiwalu po
 za kolorową energią i koncertową muzyką\, znajdziecie także wiele cie
 kawych atrakcji! Między innymi:\n 👉🏻 gigantyczne balony!🎈\n 👉
 🏻 kolorowe okularki!😎\n 👉🏻 słodycze!🍭\n 👉🏻 konkursy 
 z nagrodami!🎁\n \nNieważne ile masz lat\, jakiej muzyki słuchasz! Wa
 żne\, że potrafisz się uśmiechać i lubisz spędzać czas w gronie zwa
 riowanych osób :D\n \nIm więcej osób dołączy do wydarzenia tym więce
 j atrakcji i artystów będziemy mogli Wam zapewnić\, pomóż nam dotrze
 ć do wszystkich: polub nas\, zaproś znajomych\, udostępnij wydarzenie 
 💪\n \n ◾️ Czym jest Festiwal Kolorów? \n \nTo popularna zabawa pol
 ega na wyrzucaniu w górę przez tysiące ludzi Kolorów Holi\, które two
 rzą wielką barwną chmurę! Cały festiwal wypełnia atmosfera wiecznej 
 wesołości. Młodzi i starsi\, wszyscy tańczą\, śpiewają i bawią si
 ę\, rzucając Kolory w powietrze! To idealne miejsce aby się wyszaleć i
  zrobić niesamowite zdjęcia. Jesteśmy pionierem kolorowych imprez w Pol
 sce\, zorganizowaliśmy ich kilkaset na terenie całego kraju\, uczestnicy
  co roku wracają\, aby razem z nami się bawić i obsypywać Kolorami Hol
 i.\n \n ◾️ Dla kogo?\n \nNa festiwalu spotykamy najwięcej uczniów i 
 studentów\, ale wśród uczestników nie brakuje przedstawicieli żadnej 
 grupy wiekowej \;)\nPrawda jest taka\, że niezależnie od wieku wszyscy 
 świetnie się bawią wyrzucając kolory :D\n \n ◾️ Gdzie i kiedy?\n \
 nWidzimy się 12 września na terenie Szybu Prezydent\, start o godzinie 1
 5:00. Zapraszamy!\n \n Ostatni wyrzut o godzinie 20:00! \n \n ◾️ Bilet
 y \n \nWstęp wolny! \nPamiętajcie\, na imprezy organizowane przez nas za
 wsze możecie wejść za free. Zabierzcie swoich znajomych i bawcie się r
 azem z nami 💪\n \n ◾️ Kolory Holi \n \nNa festiwalu zapewniamy dost
 ęp do 11 różnych Kolorów Holi. Wśród kolorów:\n - żółty 💛\n -
  pomarańczowy 🧡\n - czerwony ❤️\n - zielony 💚\n - niebieski 
 💙\n - fioletowy 💜\n i wielu innych!\n \nJak zawsze przypominamy\, ż
 e ze względu bezpieczeństwa nie można przynosić własnych proszków in
 nych niż "Kolory Holi" (możecie nabyć na www.koloryholi.pl). Kolory zap
 ewniane przez nas są przyjazne środowisku\, nieszkodliwe\, niealergiczne
  i posiadają odpowiednie certyfikaty. Kolory łatwo zmywają się ze skó
 ry oraz znikają z większości materiałów podczas prania!\n  \n ◾️ 
 Kontakt:\n \n W razie jakichkolwiek pytań prosimy o kontakt mailowy.\n \n
  @: kontakt@festiwalkolorow.pl\n \n Zapraszamy! 😘
ATTACH;FMTTYPE=image/jpeg:https://night4u.pl/wp-content/uploads/2021/09/47
 350_image_238342354_2079269938888608_7125295597982593697_n.jpg
CATEGORIES:śląskie
END:VEVENT
BEGIN:VTIMEZONE
TZID:Europe/Warsaw
X-LIC-LOCATION:Europe/Warsaw
BEGIN:DAYLIGHT
DTSTART:20210328T030000
TZOFFSETFROM:+0100
TZOFFSETTO:+0200
TZNAME:CEST
END:DAYLIGHT
END:VTIMEZONE
END:VCALENDAR