BEGIN:VCALENDAR
VERSION:2.0
PRODID:-//wp-events-plugin.com//7.2.3.1//EN
TZID:Europe/Warsaw
X-WR-TIMEZONE:Europe/Warsaw
BEGIN:VEVENT
UID:18295@night4u.pl
DTSTART;TZID=Europe/Warsaw:20210911T150000
DTEND;TZID=Europe/Warsaw:20210911T200000
DTSTAMP:20210908T144858Z
URL:https://night4u.pl/wydarzenia/festiwal-kolorow-w-krakowie-2020/
SUMMARY:Festiwal Kolorów w Krakowie 2021!
DESCRIPTION:🎉Oficjalny Festiwal Kolorów w Krakowie 2021! 🎉\n\nPamię
 tacie jak biliśmy rekord Guinnessa? W tym roku też zrobimy coś fajnego!
 \n \nWidzimy się już 11 września 2021!\nWstęp: free!\n\nFestiwal Kolor
 ów w Krakowie odbędzie się już 11 września na terenie zielonym przy T
 AURON Arenie! Impreza startuje o godzinie 15:00\, a wstęp na nią jest be
 zpłatny! Oprócz mocy kolorów i dobrej muzyki na miejscu czekać na Was 
 będzie strefa foodtrucków Arena Garden! Partnerem Festiwalu Kolorów w K
 rakowie jest Miasto Kraków.\n\nNa festiwalowej scenie wystąpi wiele ciek
 awych muzycznych osobowości. Proponowana przez artystów muzyka dobierana
  jest tak\, aby odpowiadała uczestnikom Festiwalu Kolorów i nie ogranicz
 ała się tylko do jednego gatunku. Zagrają świetni DJe: DAN\, D-WAVE\, 
 NORBERTO LOCO. Odbędzie się koncert rockowego zespołu Coria\, a gwiazd
 ą wieczoru będzie B.R.O\, znany polski raper i producent muzyczny.\n\nCa
 łemu wydarzeniu towarzyszyć będzie niepowtarzalna atmosfera obfitująca
  w niezliczoną ilość uśmiechów i spontanicznych reakcji! Niezależnie
  od wieku\, każdy znajdzie tu miejsce\, gdzie będzie się czuł swobodni
 e. O poziom endorfin i kondycję pomoże zadbać taneczny skład Egurrola 
 Dance Studio prezentując na scenie wachlarz tanecznych stylów: taniec no
 woczesny\, disco dance\, latino\, commercial\, hip hop oraz jazz. Odbędą
  się również zajęcia taneczne dla uczestników imprezy.\n\nFestiwal Ko
 lorów to wydarzenie sprzyjające szaleństwu i radości\, a także raj dl
 a miłośników kolorowych i niepowtarzalnych zdjęć. Festiwal Balonów t
 o kolejna zabawa\, jaka zostanie przeprowadzona podczas eventu. Setki balo
 nów małych i gigantycznych spadnie na publiczność chwilę po 17:00\, a
  zadaniem wszystkich uczestników będzie podbijanie ich nad głowami w ja
 k najdłuższym czasie.\n\nNa Festiwal Kolorów zapraszamy z czworonogami.
  W strefie Dogi Digi na Waszych pupili będą czekały miski pełne świe
 żej wody.\n\nWielki\, okrągły pluszak chodzący po terenie imprezy\, pr
 zeciąganie liny\, wyścigi w workach\, relaks na leżaczkach i czapka z d
 aszkiem pełna kuleczkowych lodów to atrakcje w strefie Mini Melts.\n\nRa
 dio Zet objęło trasę Festiwalu Kolorów patronatem medialnym. \nReguluj
 cie odbiorniki ten event to będzie kolorowa mooc!	\n\nNie może Was zabra
 knąć!\n\nUwaga! W związku z wydarzeniem organizowanym w tym samym dniu 
 w Arenie Głównej cena za wjazd na parking TAURON Areny Kraków będzie w
 ynosić 40 zł.\n \nFESTIWAL KOLORÓW to:\n 💥 niezliczona ilość kolor
 ów!\n 💥 oryginalne Kolory Holi najwyższej jakości! (schodzą z ubra
 ń👕)\n 💥 najlepsi DJ'e!\n 💥 popularni artyści\, których sami wy
 bierzecie!\n 💥 smaczne jedzenie z najlepszych foodtrucków!🍕\n 💥 
 pozytywna atmosfera i radość życia!\n \nNa Festiwalu poza kolorową ene
 rgią i koncertową muzyką\, znajdziecie także wiele ciekawych atrakcji!
  Między innymi:\n 👉🏻 gigantyczne balony!🎈\n 👉🏻 kolorowe ok
 ularki!😎\n 👉🏻 darmowe słodycze!🍭\n 👉🏻 konkursy z nagrod
 ami!🎁\n \nNieważne ile masz lat\, jakiej muzyki słuchasz! Ważne\, ż
 e potrafisz się uśmiechać i lubisz spędzać czas w gronie zwariowanych
  osób:D\n \nIm więcej osób dołączy do wydarzenia tym więcej atrakcji
  i artystów będziemy mogli Wam zapewnić\, pomóż nam dotrzeć do wszys
 tkich: polub nas\, zaproś znajomych\, udostępnij wydarzenie 💪\n \n 
 ◾️ Czym jest Festiwal Kolorów? \n \nTo popularna zabawa polega na wyr
 zucaniu w górę przez tysiące ludzi Kolorów Holi\, które tworzą wielk
 ą barwną chmurę! Cały festiwal wypełnia atmosfera wiecznej wesołośc
 i. Młodzi i starsi\, wszyscy tańczą\, śpiewają i bawią się\, rzucaj
 ąc Kolory w powietrze! To idealne miejsce aby się wyszaleć i zrobić ni
 esamowite zdjęcia. Jesteśmy pionierem kolorowych imprez w Polsce\, zorga
 nizowaliśmy ich kilkaset na terenie całego kraju\, uczestnicy co roku wr
 acają\, aby razem z nami się bawić i obsypywać Kolorami Holi.\n \n ◾
 ️ Dla kogo?\n \nNa festiwalu spotykamy najwięcej uczniów i studentów\
 , ale wśród uczestników nie brakuje przedstawicieli żadnej grupy wieko
 wej \;)\nPrawda jest taka\, że niezależnie od wieku wszyscy świetnie si
 ę bawią wyrzucając kolory :D\n \n ◾️ Gdzie i kiedy?\n \nWidzimy si
 ę 11 września\, start o godzinie 15:00. Zapraszamy!\n \n Ostatni wyrzut 
 o godzinie 20:00! \n \n ◾️ Bilety \n \nWstęp wolny! \nPamiętajcie\, 
 na imprezy organizowane przez nas zawsze możecie wejść za free. Zabierz
 cie swoich znajomych i bawcie się razem z nami 💪\n \n ◾️ Kolory Ho
 li \n \nNa festiwalu zapewniamy dostęp do 11 różnych Kolorów Holi. Wś
 ród kolorów:\n - żółty 💛\n - pomarańczowy 🧡\n - czerwony ❤
 ️\n - zielony 💚\n - niebieski 💙\n - fioletowy 💜\n i wielu innyc
 h!\n \nJak zawsze przypominamy\, że ze względu bezpieczeństwa nie możn
 a przynosić własnych proszków innych niż "Kolory Holi" (możecie naby
 ć na www.koloryholi.pl). Kolory zapewniane przez nas są przyjazne środo
 wisku\, nieszkodliwe\, niealergiczne i posiadają odpowiednie certyfikaty.
  Kolory łatwo zmywają się ze skóry oraz znikają z większości materi
 ałów podczas prania!\n  \n ◾️ Kontakt:\n \n W razie jakichkolwiek py
 tań prosimy o kontakt mailowy.\n \n @: kontakt@festiwalkolorow.pl\n \n Za
 praszamy! 😘
ATTACH;FMTTYPE=image/jpeg:https://night4u.pl/wp-content/uploads/2021/09/44
 216_image_237216497_2074025992746336_3425754749647172141_n.jpg
CATEGORIES:małopolskie
LOCATION:TAURON Arena Kraków\, ul. Stanisława Lema 7\, Kraków\, 31-571\,
  Poland
GEO:50.067845;19.991268
X-APPLE-STRUCTURED-LOCATION;VALUE=URI;X-ADDRESS=ul. Stanisława Lema 7\, Kr
 aków\, 31-571\, Poland;X-APPLE-RADIUS=100;X-TITLE=TAURON Arena Kraków:ge
 o:50.067845,19.991268
END:VEVENT
BEGIN:VTIMEZONE
TZID:Europe/Warsaw
X-LIC-LOCATION:Europe/Warsaw
BEGIN:DAYLIGHT
DTSTART:20210328T030000
TZOFFSETFROM:+0100
TZOFFSETTO:+0200
TZNAME:CEST
END:DAYLIGHT
END:VTIMEZONE
END:VCALENDAR