BEGIN:VCALENDAR
VERSION:2.0
PRODID:-//wp-events-plugin.com//7.2.3.1//EN
TZID:Europe/Warsaw
X-WR-TIMEZONE:Europe/Warsaw
BEGIN:VEVENT
UID:18293@night4u.pl
DTSTART;TZID=Europe/Warsaw:20210912T150000
DTEND;TZID=Europe/Warsaw:20210912T200000
DTSTAMP:20210908T144842Z
URL:https://night4u.pl/wydarzenia/festiwal-kolorow-w-lublinie-2020/
SUMMARY:Festiwal Kolorów w Lublinie 2021!
DESCRIPTION:Oficjalny Festiwal Kolorów w Lublinie 2021!\n ❤️🧡💛
 💚💙💜\n \n Widzimy się 12 września 2021!\n Wstęp: free!\n \n FES
 TIWAL KOLORÓW to:\n 💥 niezliczona ilość kolorów!\n 💥 oryginalne 
 Kolory Holi najwyższej jakości! (schodzą z ubrań👕)\n 💥 najlepsi 
 DJ'e!\n 💥 popularni artyści\, których sami wybierzecie!\n 💥 smaczn
 e jedzenie z najlepszych foodtrucków!🍕\n 💥 pozytywna atmosfera i ra
 dość życia!\n \nNa Festiwalu poza kolorową energią i koncertową muzy
 ką\, znajdziecie także wiele ciekawych atrakcji! Między innymi:\n 👉
 🏻 gigantyczne balony!🎈\n 👉🏻 kolorowe okularki!😎\n 👉🏻 
 darmowe słodycze!🍭\n 👉🏻 konkursy z nagrodami!🎁\n \nNieważne 
 ile masz lat\, jakiej muzyki słuchasz! Ważne\, że potrafisz się uśmie
 chać i lubisz spędzać czas w gronie zwariowanych osób:D\n \nIm więcej
  osób dołączy do wydarzenia tym więcej atrakcji i artystów będziemy 
 mogli Wam zapewnić\, pomóż nam dotrzeć do wszystkich: polub nas\, zapr
 oś znajomych\, udostępnij wydarzenie 💪\n \n ◾️ Czym jest Festiwal
  Kolorów? \n \nTo popularna zabawa polega na wyrzucaniu w górę przez ty
 siące ludzi Kolorów Holi\, które tworzą wielką barwną chmurę! Cały
  festiwal wypełnia atmosfera wiecznej wesołości. Młodzi i starsi\, wsz
 yscy tańczą\, śpiewają i bawią się\, rzucając Kolory w powietrze! T
 o idealne miejsce aby się wyszaleć i zrobić niesamowite zdjęcia. Jeste
 śmy pionierem kolorowych imprez w Polsce\, zorganizowaliśmy ich kilkaset
  na terenie całego kraju\, uczestnicy co roku wracają\, aby razem z nami
  się bawić i obsypywać Kolorami Holi.\n \n ◾️ Dla kogo?\n \nNa fest
 iwalu spotykamy najwięcej uczniów i studentów\, ale wśród uczestnikó
 w nie brakuje przedstawicieli żadnej grupy wiekowej \;)\nPrawda jest taka
 \, że niezależnie od wieku wszyscy świetnie się bawią wyrzucając kol
 ory :D\n \n ◾️ Gdzie i kiedy?\n \nWidzimy się 12 września\, start o 
 godzinie 15:00. Cała impreza odbywa się na Błoniach Browaru Perła przy
  Bernardyńskiej 15. \n \n Ostatni wyrzut o godzinie 20:00! \n \n ◾️ B
 ilety \n \nWstęp wolny! \nPamiętajcie\, na imprezy organizowane przez na
 s zawsze możecie wejść za free. Zabierzcie swoich znajomych i bawcie si
 ę razem z nami 💪\n \n ◾️ Kolory Holi \n \nNa festiwalu zapewniamy 
 dostęp do 11 różnych Kolorów Holi. Wśród kolorów:\n - żółty 💛
 \n - pomarańczowy 🧡\n - czerwony ❤️\n - zielony 💚\n - niebieski
  💙\n - fioletowy 💜\n i wielu innych!\n \nJak zawsze przypominamy\, 
 że ze względu bezpieczeństwa nie można przynosić własnych proszków 
 innych niż "Kolory Holi" (możecie nabyć na www.koloryholi.pl). Kolory z
 apewniane przez nas są przyjazne środowisku\, nieszkodliwe\, niealergicz
 ne i posiadają odpowiednie certyfikaty. Kolory łatwo zmywają się ze sk
 óry oraz znikają z większości materiałów podczas prania!\n  \n ◾
 ️ Kontakt:\n \n W razie jakichkolwiek pytań prosimy o kontakt mailowy.\
 n \n @: kontakt@festiwalkolorow.pl\n \n Zapraszamy! 😘
ATTACH;FMTTYPE=image/jpeg:https://night4u.pl/wp-content/uploads/2021/09/44
 208_image_240914149_2083381405144128_4476605677104473878_n.jpg
CATEGORIES:lubelskie
LOCATION:Perła\, ul. Bernardyńska 15\, Lublin\, 20-950\, Poland
GEO:51.244206;22.567364
X-APPLE-STRUCTURED-LOCATION;VALUE=URI;X-ADDRESS=ul. Bernardyńska 15\, Lubl
 in\, 20-950\, Poland;X-APPLE-RADIUS=100;X-TITLE=Perła:geo:51.244206,22.56
 7364
END:VEVENT
BEGIN:VTIMEZONE
TZID:Europe/Warsaw
X-LIC-LOCATION:Europe/Warsaw
BEGIN:DAYLIGHT
DTSTART:20210328T030000
TZOFFSETFROM:+0100
TZOFFSETTO:+0200
TZNAME:CEST
END:DAYLIGHT
END:VTIMEZONE
END:VCALENDAR