BEGIN:VCALENDAR
VERSION:2.0
PRODID:-//wp-events-plugin.com//7.2.3.1//EN
TZID:Europe/Warsaw
X-WR-TIMEZONE:Europe/Warsaw
BEGIN:VEVENT
UID:18894@night4u.pl
DTSTART;TZID=Europe/Warsaw:20210613T150000
DTEND;TZID=Europe/Warsaw:20210613T200000
DTSTAMP:20210427T204128Z
URL:https://night4u.pl/wydarzenia/festiwal-kolorow-w-poznaniu-2020/
SUMMARY:Festiwal Kolorów w Poznaniu 2021!
DESCRIPTION:Oficjalny Festiwal Kolorów w Poznaniu 2021!\n ❤️🧡💛
 💚💙💜\n\n\nWidzimy się 13 czerwca 2021!\nWstęp: free!\n \nFESTIWA
 L KOLORÓW to:\n 💥 niezliczona ilość kolorów!\n 💥 oryginalne Kolo
 ry Holi najwyższej jakości! (schodzą z ubrań👕)\n 💥 najlepsi DJ'e
 !\n 💥 popularni artyści\, których sami wybierzecie!\n 💥 smaczne je
 dzenie z najlepszych foodtrucków!🍕\n 💥 pozytywna atmosfera i radoś
 ć życia!\n \nNa Festiwalu poza kolorową energią i koncertową muzyką\
 , znajdziecie także wiele ciekawych atrakcji! Między innymi:\n 👉🏻 
 gigantyczne balony!🎈\n 👉🏻 kolorowe okularki!😎\n 👉🏻 darmo
 we słodycze!🍭\n 👉🏻 bazooki CO2🎊\n 👉🏻 konkursy z nagroda
 mi!🎁\n \nNieważne ile masz lat\, jakiej muzyki słuchasz! Ważne\, że
  potrafisz się uśmiechać i lubisz spędzać czas w gronie zwariowanych 
 osób:D\n \nIm więcej osób dołączy do wydarzenia tym więcej atrakcji 
 i artystów będziemy mogli Wam zapewnić\, pomóż nam dotrzeć do wszyst
 kich: polub nas\, zaproś znajomych\, udostępnij wydarzenie 💪\n \n ◾
 ️ Czym jest Festiwal Kolorów? \n \nTo popularna zabawa polega na wyrzuc
 aniu w górę przez tysiące ludzi Kolorów Holi\, które tworzą wielką 
 barwną chmurę! Cały festiwal wypełnia atmosfera wiecznej wesołości. 
 Młodzi i starsi\, wszyscy tańczą\, śpiewają i bawią się\, rzucając
  Kolory w powietrze! To idealne miejsce aby się wyszaleć i zrobić niesa
 mowite zdjęcia. Jesteśmy pionierem kolorowych imprez w Polsce\, zorganiz
 owaliśmy ich kilkaset na terenie całego kraju\, uczestnicy co roku wraca
 ją\, aby razem z nami się bawić i obsypywać Kolorami Holi.\n \n ◾️
  Dla kogo?\n \nNa festiwalu spotykamy najwięcej uczniów i studentów\, a
 le wśród uczestników nie brakuje przedstawicieli żadnej grupy wiekowej
  \;)\nPrawda jest taka\, że niezależnie od wieku wszyscy świetnie się 
 bawią wyrzucając kolory :D\n \n ◾️ Gdzie i kiedy?\n \nWidzimy się 1
 3 czerwca nad Maltą\, start o godzinie 15:00. Zapraszamy!\n \n Ostatni wy
 rzut o godzinie 20:00! \n \n ◾️ Bilety \n \nWstęp wolny! \nPamiętajc
 ie\, na imprezy organizowane przez nas zawsze możecie wejść za free. Za
 bierzcie swoich znajomych i bawcie się razem z nami 💪\n \n ◾️ Kolo
 ry Holi \n \nNa festiwalu zapewniamy dostęp do 11 różnych Kolorów Holi
 . Wśród kolorów:\n - żółty 💛\n - pomarańczowy 🧡\n - czerwony 
 ❤️\n - zielony 💚\n - niebieski 💙\n - fioletowy 💜\n i wielu in
 nych!\n \nJak zawsze przypominamy\, że ze względu bezpieczeństwa nie mo
 żna przynosić własnych proszków innych niż "Kolory Holi" (możecie na
 być na www.koloryholi.pl). Kolory zapewniane przez nas są przyjazne śro
 dowisku\, nieszkodliwe\, niealergiczne i posiadają odpowiednie certyfikat
 y. Kolory łatwo zmywają się ze skóry oraz znikają z większości mate
 riałów podczas prania!\n  \n ◾️ Kontakt:\n \n W razie jakichkolwiek 
 pytań prosimy o kontakt mailowy.\n \n @: kontakt@festiwalkolorow.pl\n \n 
 Zapraszamy! 😘
ATTACH;FMTTYPE=image/jpeg:https://night4u.pl/wp-content/uploads/2021/04/45
 681_image_118229995_1758103441005261_8966208494721137386_n.jpg
CATEGORIES:wielkopolskie
LOCATION:Jezioro Malta Poznań\, poznań ul. Wiankowa\, Poznan\, Poland
GEO:52.401724;16.987749
X-APPLE-STRUCTURED-LOCATION;VALUE=URI;X-ADDRESS=poznań ul. Wiankowa\, Pozn
 an\, Poland;X-APPLE-RADIUS=100;X-TITLE=Jezioro Malta Poznań:geo:52.401724
 ,16.987749
END:VEVENT
BEGIN:VTIMEZONE
TZID:Europe/Warsaw
X-LIC-LOCATION:Europe/Warsaw
BEGIN:DAYLIGHT
DTSTART:20210328T030000
TZOFFSETFROM:+0100
TZOFFSETTO:+0200
TZNAME:CEST
END:DAYLIGHT
END:VTIMEZONE
END:VCALENDAR