BEGIN:VCALENDAR
VERSION:2.0
PRODID:-//wp-events-plugin.com//7.2.3.1//EN
TZID:Europe/Warsaw
X-WR-TIMEZONE:Europe/Warsaw
BEGIN:VEVENT
UID:19653@night4u.pl
DTSTART;TZID=Europe/Warsaw:20210529T150000
DTEND;TZID=Europe/Warsaw:20210529T200000
DTSTAMP:20210427T204147Z
URL:https://night4u.pl/wydarzenia/festiwal-kolorow-w-warszawie-2020/
SUMMARY:Festiwal Kolorów w Warszawie 2021!
DESCRIPTION:Oficjalny Festiwal Kolorów w Warszawie 2021!\n ❤️🧡💛
 💚💙💜\n\n\nWidzimy się już 29 maja 2021!\nWstęp: free!\n \nFESTI
 WAL KOLORÓW to:\n 💥 niezliczona ilość kolorów!\n 💥 oryginalne Ko
 lory Holi najwyższej jakości! (schodzą z ubrań👕)\n 💥 najlepsi DJ
 'e!\n 💥 popularni artyści\, których sami wybierzecie!\n 💥 smaczne 
 jedzenie z najlepszych foodtrucków!🍕\n 💥 pozytywna atmosfera i rado
 ść życia!\n \nNa Festiwalu poza kolorową energią i koncertową muzyk
 ą\, znajdziecie także wiele ciekawych atrakcji! Między innymi:\n 👉
 🏻 gigantyczne balony!🎈\n 👉🏻 kolorowe okularki!😎\n 👉🏻 
 darmowe słodycze!🍭\n 👉🏻 bazooki CO2🎊\n 👉🏻 konkursy z na
 grodami!🎁\n \nNieważne ile masz lat\, jakiej muzyki słuchasz! Ważne\
 , że potrafisz się uśmiechać i lubisz spędzać czas w gronie zwariowa
 nych osób:D\n \nIm więcej osób dołączy do wydarzenia tym więcej atra
 kcji i artystów będziemy mogli Wam zapewnić\, pomóż nam dotrzeć do w
 szystkich: polub nas\, zaproś znajomych\, udostępnij wydarzenie 💪\n \
 n ◾️ Czym jest Festiwal Kolorów? \n \nTo popularna zabawa polega na w
 yrzucaniu w górę przez tysiące ludzi Kolorów Holi\, które tworzą wie
 lką barwną chmurę! Cały festiwal wypełnia atmosfera wiecznej wesoło
 ści. Młodzi i starsi\, wszyscy tańczą\, śpiewają i bawią się\, rzu
 cając Kolory w powietrze! To idealne miejsce aby się wyszaleć i zrobić
  niesamowite zdjęcia. Jesteśmy pionierem kolorowych imprez w Polsce\, zo
 rganizowaliśmy ich kilkaset na terenie całego kraju\, uczestnicy co roku
  wracają\, aby razem z nami się bawić i obsypywać Kolorami Holi.\n \n 
 ◾️ Dla kogo?\n \nNa festiwalu spotykamy najwięcej uczniów i student
 ów\, ale wśród uczestników nie brakuje przedstawicieli żadnej grupy w
 iekowej \;)\nPrawda jest taka\, że niezależnie od wieku wszyscy świetni
 e się bawią wyrzucając kolory :D\n \n ◾️ Gdzie i kiedy?\n \nWidzimy
  się 29 maja\, start o godzinie 15:00. Zapraszamy na Kopę Cwila na Urysn
 owie!\n \n Ostatni wyrzut o godzinie 20:00! \n \n ◾️ Bilety \n \nWstę
 p wolny! \nPamiętajcie\, na imprezy organizowane przez nas zawsze możeci
 e wejść za free. Zabierzcie swoich znajomych i bawcie się razem z nami 
 💪\n \n ◾️ Kolory Holi \n \nNa festiwalu zapewniamy dostęp do 11 r
 óżnych Kolorów Holi. Wśród kolorów:\n - żółty 💛\n - pomarańcz
 owy 🧡\n - czerwony ❤️\n - zielony 💚\n - niebieski 💙\n - fiole
 towy 💜\n i wielu innych!\n \nJak zawsze przypominamy\, że ze względu 
 bezpieczeństwa nie można przynosić własnych proszków innych niż "Kol
 ory Holi" (możecie nabyć na www.koloryholi.pl). Kolory zapewniane przez 
 nas są przyjazne środowisku\, nieszkodliwe\, niealergiczne i posiadają 
 odpowiednie certyfikaty. Kolory łatwo zmywają się ze skóry oraz znikaj
 ą z większości materiałów podczas prania!\n  \n ◾️ Kontakt:\n \n 
 W razie jakichkolwiek pytań prosimy o kontakt mailowy.\n \n @: kontakt@fe
 stiwalkolorow.pl\n \n Zapraszamy! 😘
ATTACH;FMTTYPE=image/jpeg:https://night4u.pl/wp-content/uploads/2021/04/47
 343_image_118162048_1758107604338178_6201128245770330447_n.jpg
CATEGORIES:mazowieckie
LOCATION:Kopa Cwila\, Warsaw\, Poland
GEO:52.163934;21.023564
X-APPLE-STRUCTURED-LOCATION;VALUE=URI;X-ADDRESS=Warsaw\, Poland;X-APPLE-RAD
 IUS=100;X-TITLE=Kopa Cwila:geo:52.163934,21.023564
END:VEVENT
BEGIN:VTIMEZONE
TZID:Europe/Warsaw
X-LIC-LOCATION:Europe/Warsaw
BEGIN:DAYLIGHT
DTSTART:20210328T030000
TZOFFSETFROM:+0100
TZOFFSETTO:+0200
TZNAME:CEST
END:DAYLIGHT
END:VTIMEZONE
END:VCALENDAR