BEGIN:VCALENDAR
VERSION:2.0
PRODID:-//wp-events-plugin.com//7.2.3.1//EN
TZID:Europe/Warsaw
X-WR-TIMEZONE:Europe/Warsaw
BEGIN:VEVENT
UID:18760@night4u.pl
DTSTART;TZID=Europe/Warsaw:20210612T150000
DTEND;TZID=Europe/Warsaw:20210612T200000
DTSTAMP:20210427T204129Z
URL:https://night4u.pl/wydarzenia/festiwal-kolorow-we-wroclawiu-2020/
SUMMARY:Festiwal Kolorów we Wrocławiu 2021!
DESCRIPTION:Oficjalny Festiwal Kolorów we Wrocławiu 2021!\n ❤️🧡
 💛💚💙💜\n\n Widzimy się 12 czerwca 2021 na Polach Marsowych!\nWs
 tęp: free!\n \nFESTIWAL KOLORÓW to:\n 💥 niezliczona ilość kolorów!
 \n 💥 oryginalne Kolory Holi najwyższej jakości! (schodzą z ubrań
 👕)\n 💥 najlepsi DJ'e!\n 💥 popularni artyści\, których sami wybi
 erzecie!\n 💥 smaczne jedzenie z najlepszych foodtrucków!🍕\n 💥 po
 zytywna atmosfera i radość życia!\n \nNa Festiwalu poza kolorową energ
 ią i koncertową muzyką\, znajdziecie także wiele ciekawych atrakcji! M
 iędzy innymi:\n 👉🏻 gigantyczne balony!🎈\n 👉🏻 kolorowe okul
 arki!😎\n 👉🏻 darmowe słodycze!🍭\n 👉🏻 bazooki CO2🎊\n 
 👉🏻 konkursy z nagrodami!🎁\n \nNieważne ile masz lat\, jakiej muz
 yki słuchasz! Ważne\, że potrafisz się uśmiechać i lubisz spędzać 
 czas w gronie zwariowanych osób:D\n \nIm więcej osób dołączy do wydar
 zenia tym więcej atrakcji i artystów będziemy mogli Wam zapewnić\, pom
 óż nam dotrzeć do wszystkich: polub nas\, zaproś znajomych\, udostępn
 ij wydarzenie 💪\n \n ◾️ Czym jest Festiwal Kolorów? \n \nTo popula
 rna zabawa polega na wyrzucaniu w górę przez tysiące ludzi Kolorów Hol
 i\, które tworzą wielką barwną chmurę! Cały festiwal wypełnia atmos
 fera wiecznej wesołości. Młodzi i starsi\, wszyscy tańczą\, śpiewaj
 ą i bawią się\, rzucając Kolory w powietrze! To idealne miejsce aby si
 ę wyszaleć i zrobić niesamowite zdjęcia. Jesteśmy pionierem kolorowyc
 h imprez w Polsce\, zorganizowaliśmy ich kilkaset na terenie całego kraj
 u\, uczestnicy co roku wracają\, aby razem z nami się bawić i obsypywa
 ć Kolorami Holi.\n \n ◾️ Dla kogo?\n \nNa festiwalu spotykamy najwię
 cej uczniów i studentów\, ale wśród uczestników nie brakuje przedstaw
 icieli żadnej grupy wiekowej \;)\nPrawda jest taka\, że niezależnie od 
 wieku wszyscy świetnie się bawią wyrzucając kolory :D\n \n ◾️ Gdzi
 e i kiedy?\n \nWidzimy się 12 czerwca na Polach Marsowych\, start o godzi
 nie 15:00. Zapraszamy!\n \n Ostatni wyrzut o godzinie 20:00! \n \n ◾️ 
 Bilety \n \nWstęp wolny! \nPamiętajcie\, na imprezy organizowane przez n
 as zawsze możecie wejść za free. Zabierzcie swoich znajomych i bawcie s
 ię razem z nami 💪\n \n ◾️ Kolory Holi \n \nNa festiwalu zapewniamy
  dostęp do 11 różnych Kolorów Holi. Wśród kolorów:\n - żółty 
 💛\n - pomarańczowy 🧡\n - czerwony ❤️\n - zielony 💚\n - niebi
 eski 💙\n - fioletowy 💜\n i wielu innych!\n \nJak zawsze przypominamy
 \, że ze względu bezpieczeństwa nie można przynosić własnych proszk
 ów innych niż "Kolory Holi" (możecie nabyć na www.koloryholi.pl). Kolo
 ry zapewniane przez nas są przyjazne środowisku\, nieszkodliwe\, niealer
 giczne i posiadają odpowiednie certyfikaty. Kolory łatwo zmywają się z
 e skóry oraz znikają z większości materiałów podczas prania!\n  \n 
 ◾️ Kontakt:\n \n W razie jakichkolwiek pytań prosimy o kontakt mailow
 y.\n \n @: kontakt@festiwalkolorow.pl\n \n Zapraszamy! 😘
ATTACH;FMTTYPE=image/jpeg:https://night4u.pl/wp-content/uploads/2021/04/45
 279_image_117957131_1758111334337805_1545785039309155247_n.jpg
CATEGORIES:dolnośląskie
LOCATION:AWF Wrocław - Akademia Wychowania Fizycznego we Wrocławiu\, al. 
 I.J. Paderewskiego 35\, Wroclaw\, 51-612\, Poland
GEO:51.114817;17.098461
X-APPLE-STRUCTURED-LOCATION;VALUE=URI;X-ADDRESS=al. I.J. Paderewskiego 35\,
  Wroclaw\, 51-612\, Poland;X-APPLE-RADIUS=100;X-TITLE=AWF Wrocław - Akade
 mia Wychowania Fizycznego we Wrocławiu:geo:51.114817,17.098461
END:VEVENT
BEGIN:VTIMEZONE
TZID:Europe/Warsaw
X-LIC-LOCATION:Europe/Warsaw
BEGIN:DAYLIGHT
DTSTART:20210328T030000
TZOFFSETFROM:+0100
TZOFFSETTO:+0200
TZNAME:CEST
END:DAYLIGHT
END:VTIMEZONE
END:VCALENDAR