BEGIN:VCALENDAR
VERSION:2.0
PRODID:-//wp-events-plugin.com//7.2.3.1//EN
TZID:Europe/Warsaw
X-WR-TIMEZONE:Europe/Warsaw
BEGIN:VEVENT
UID:51814@night4u.pl
DTSTART;TZID=Europe/Warsaw:20250308T200000
DTEND;TZID=Europe/Warsaw:20250308T230000
DTSTAMP:20241229T203327Z
URL:https://night4u.pl/wydarzenia/festiwal-na-bogatosci-bracia-figo-fagot-
 figo-i-samogony-cjalis/
SUMMARY:Festiwal na bogatości - BRACIA FIGO FAGOT + Figo i Samogony + Cjal
 is
DESCRIPTION:Niekwestionowani królowie pastiszu disco-polo powrócą do Lub
 lina by rozkołysać publiczność brzmieniem syntezatorowych solówek\, e
 lektronicznych sampli z najgłębszych odmętów klimatu disco polo oraz p
 rześmiewczych tekstów z celną i wyrazistą puentą.\nBracia Figo Fagot 
 Grupa została założona we wrześniu 2010 roku\, na potrzeby serialu Kal
 iber 200 Volt\, emitowanego w jednej z telewizji muzycznych i jest realną
  kontynuacją serialowych postaci tworzących wysmakowane disco polo z ele
 mentami humorystycznej ironii. Tworzą go "Figo - Fabian Barłoś"\, czyli
  Piotr Połać (wokal\, teksty)oraz "Fagot - Szymon Filip Barłoś"\, czyl
 i Bartosz Walaszek (keyboard\, wokal\, teksty). Bracia Figo Fagot mają na
  koncie sześć albumów studyjnych\, spośród których pięć pokryło s
 ię złotem. Już (data i klub do uzupełnienia) rozgrzeje się do czerwon
 ości dzięki Braciom Figo Fagot\, prezentując plejadę swoich największ
 ych hitów\, z "Bożenką"\, "Ooooo kończy się już noc"\, "Pisarzem mi
 łości" i "Karolino (KOCHAM CIĘ)" na czele.\nCjalis jest piosenkarzem wy
 konującym utwory z gatunku electro punk. Odtwórcą roli i kompozytorem p
 iosenek Cjalisa jest Bartosz Walaszek\, a kreacja charyzmatycznej postaci 
 została pierwotnie stworzona na potrzeby popularnego serialu Comedy Centr
 al "Blok Ekipa"\, mającego wiele milionowych odtworzeń w internecie. Art
 ysta ma na swoim koncie takie hity\, jak „Autodancing”\, „Królowa D
 zielni” czy „Ciuralla”. Piosenki Cjalisa biją rekordy popularności
  na portalu YouTube. Do tego będzie usłyszeć przeboje z najnowszej pły
 ty\, między innymi „Małpkę Bananową”\, która jest już dostępna 
 na YouTube.\nFigo i Samogony to Piotr Połać\, znany jako połowa duetu B
 racia Figo Fagot\, ale też muzyk kapel Speculum\, Darmozjady i Proces. Z 
 Samogonami współpracuje też Andrzej Izdebski\, producent m. in. Ralpha 
 Kamińskiego\, Kazika Staszewskiego i Braci Figo Fagot. Zespół zadebiuto
 wał pod koniec października 2020 utworem "Nie zaufam nigdy już" (ponad 
 dwa milion wyświetleń)\, który pojawił się również na wydanym w 202
 0 roku albumie Braci Figo Fagot "Miliony internautów mogą się mylić". 
 Dodatkowo utwór zespołu Erotyczne Pif Paf został odtworzony na platform
 ie youtube ponad 27 milionów razy.
ATTACH;FMTTYPE=image/jpeg:https://night4u.pl/wp-content/uploads/2024/12/Fe
 stiwal-na-bogatosci-–-BRACIA-FIGO-FAGOT-Figo-i-Samogony-Cjalis.jpg
CATEGORIES:lubelskie
LOCATION:Fabryka Kultury Zgrzyt\, Fabryka Kultury Zgrzyt\, 
X-APPLE-STRUCTURED-LOCATION;VALUE=URI;X-ADDRESS=Fabryka Kultury Zgrzyt\, ;X
 -APPLE-RADIUS=100;X-TITLE=Fabryka Kultury Zgrzyt:geo:0,0
END:VEVENT
BEGIN:VTIMEZONE
TZID:Europe/Warsaw
X-LIC-LOCATION:Europe/Warsaw
BEGIN:STANDARD
DTSTART:20241027T020000
TZOFFSETFROM:+0200
TZOFFSETTO:+0100
TZNAME:CET
END:STANDARD
END:VTIMEZONE
END:VCALENDAR