BEGIN:VCALENDAR
VERSION:2.0
PRODID:-//wp-events-plugin.com//7.2.3.1//EN
TZID:Europe/Warsaw
X-WR-TIMEZONE:Europe/Warsaw
BEGIN:VEVENT
UID:24647@night4u.pl
DTSTART;TZID=Europe/Warsaw:20190825T120000
DTEND;TZID=Europe/Warsaw:20190825T190000
DTSTAMP:20190815T220534Z
URL:https://night4u.pl/wydarzenia/festiwal-pierogow-swiata/
SUMMARY:Festiwal Pierogów Świata
DESCRIPTION:Pierogi są znane i lubiane w każdym zakątku Ziemi – także
  nad Wisłą!\n\nWłaściwe każdy ma na nie swój własny przepis\, a w z
 ależności od kraju są one inaczej przygotowywane. Nadziewane owocami\, 
 warzywami\, mięsem\, serem czy ziemniakami\, zawijane w ciasto z różneg
 o rodzaju mąk\, również bezglutenowych\, doprawiane na słodko i ostro\
 , gotowane\, smażone lub pieczone - możliwości jest właściwie niesko
 ńczona liczba.\n\nBędziecie mieli okazję spróbować pierogów dużych 
 i małych\, polskich\, hiszpańskich\, japońskich\, tybetańskich czy hin
 duskich. Będzie w czym wybierać!\n\nDla każdego znajdzie się coś mił
 ego. Gwarantujemy\, że każdy smakosz będzie usatysfakcjonowany i opuśc
 i imprezę szczęśliwy\, z pełnym brzuchem ♥\n\nSpróbujcie tradycyjny
 ch\, domowych polskich pierogów z sezonowymi farszami\, indyjskich samos\
 , chińskich baobao\, tybetańskich momo\, włoskich calzone i gruzińskic
 h chinkali! Zapraszamy na niezwykłą\, pierogową ucztę :)\n\n\n\n\nKont
 akt dla wystawców: smacznytarg@gmail.com
ATTACH;FMTTYPE=image/jpeg:https://night4u.pl/wp-content/uploads/2019/08/57
 961_image_68615016_2394645680626554_3546807044126277632_o.jpg
CATEGORIES:mazowieckie
LOCATION:ISKRA Pole Mokotowskie\, Wawelska 5\, Warsaw\, 02-034\, Poland
GEO:52.213781;20.994384
X-APPLE-STRUCTURED-LOCATION;VALUE=URI;X-ADDRESS=Wawelska 5\, Warsaw\, 02-03
 4\, Poland;X-APPLE-RADIUS=100;X-TITLE=ISKRA Pole Mokotowskie:geo:52.213781
 ,20.994384
END:VEVENT
BEGIN:VTIMEZONE
TZID:Europe/Warsaw
X-LIC-LOCATION:Europe/Warsaw
BEGIN:DAYLIGHT
DTSTART:20190331T030000
TZOFFSETFROM:+0100
TZOFFSETTO:+0200
TZNAME:CEST
END:DAYLIGHT
END:VTIMEZONE
END:VCALENDAR