BEGIN:VCALENDAR
VERSION:2.0
PRODID:-//wp-events-plugin.com//7.2.3.1//EN
TZID:Europe/Warsaw
X-WR-TIMEZONE:Europe/Warsaw
BEGIN:VEVENT
UID:11250@night4u.pl
DTSTART;TZID=Europe/Warsaw:20190410T180000
DTEND;TZID=Europe/Warsaw:20190411T050000
DTSTAMP:20190329T221918Z
URL:https://night4u.pl/wydarzenia/festiwal-piwa-lech-3/
SUMMARY:Festiwal piwa @Lech
DESCRIPTION:Pobijmy rekord i wypijmy więcej piwa niż na Oktoberfest :)\nW
  trakcie trwania festynu spożywane jest około pięciu milionów litrów 
 piwa\, dacie radę ?! :)\n\nSpecjalnie dla Was gadżety od firmy Lech a ta
 kże degustacja piwa:)
ATTACH;FMTTYPE=image/jpeg:https://night4u.pl/wp-content/uploads/2019/03/29
 233_image_55524773_1789068711193584_7974191420267298816_o.jpg
CATEGORIES:małopolskie
LOCATION:B4 Bracka 4\, ul.Bracka 4\, Kraków\, 31-005\, Poland
GEO:50.06042;19.93637
X-APPLE-STRUCTURED-LOCATION;VALUE=URI;X-ADDRESS=ul.Bracka 4\, Kraków\, 31-
 005\, Poland;X-APPLE-RADIUS=100;X-TITLE=B4 Bracka 4:geo:50.06042,19.93637
END:VEVENT
BEGIN:VTIMEZONE
TZID:Europe/Warsaw
X-LIC-LOCATION:Europe/Warsaw
BEGIN:DAYLIGHT
DTSTART:20190331T030000
TZOFFSETFROM:+0100
TZOFFSETTO:+0200
TZNAME:CEST
END:DAYLIGHT
END:VTIMEZONE
END:VCALENDAR