BEGIN:VCALENDAR
VERSION:2.0
PRODID:-//wp-events-plugin.com//7.2.3.1//EN
TZID:Europe/Warsaw
X-WR-TIMEZONE:Europe/Warsaw
BEGIN:VEVENT
UID:51842@night4u.pl
DTSTART;TZID=Europe/Warsaw:20250627T070000
DTEND;TZID=Europe/Warsaw:20250629T233000
DTSTAMP:20250520T203356Z
URL:https://night4u.pl/wydarzenia/festiwal-zew-sie-budzi-2025/
SUMMARY:Festiwal ZEW się budzi 2025
DESCRIPTION:🌲 ZEW się budzi 2025!🌲\n\nPrzygotujcie się na wyjątkow
 ą\, szóstą edycję Festiwalu ZEW się budzi! W dniach 27–29 czerwca 2
 025 r. Cisna ponownie stanie się miejscem pełnym muzyki\, energii i niez
 wykłych spotkań. Trzy dni koncertów\, które zapadają w pamięć\, zab
 awa do białego rana i niepowtarzalny klimat Bieszczad – tego nie możec
 ie przegapić! 🎶\n\nZEW to coś więcej niż festiwal – to ludzie\, e
 nergia i momenty\, które zostają z nami na długo. Dołączcie do nas\, 
 bo tej historii nie można przegapić!\n\nLine up:\nKULT\nKSU\nFARBEN LEHR
 E\nDEZERTER\nBIG CYC\nME AND THAT MAN\nSPIĘTY\nPABLOPAVO I LUDZIKI\nSHAKI
 N’ DUDI\nTITUS TOMMY GUNN\nLATAJĄCE BIUSTONOSZE\nBUREK DOBRY PIES\nCRIM
 INAL TANGO\nOFFENSYWA\nTHE BILL\nCZARNY BEZ\nDE ŁINDOWS\nGARBATE ANIOŁKI
 \nSTACJA B - GOŚĆ SPECJALNY
ATTACH;FMTTYPE=image/jpeg:https://night4u.pl/wp-content/uploads/2025/05/Fe
 stiwal-ZEW-sie-budzi-2025.jpg
CATEGORIES:podkarpackie
LOCATION:Cisna\, Poland\, Cisna\, Poland\, 
X-APPLE-STRUCTURED-LOCATION;VALUE=URI;X-ADDRESS=Cisna\, Poland\, ;X-APPLE-R
 ADIUS=100;X-TITLE=Cisna\, Poland:geo:0,0
END:VEVENT
BEGIN:VTIMEZONE
TZID:Europe/Warsaw
X-LIC-LOCATION:Europe/Warsaw
BEGIN:DAYLIGHT
DTSTART:20250330T030000
TZOFFSETFROM:+0100
TZOFFSETTO:+0200
TZNAME:CEST
END:DAYLIGHT
END:VTIMEZONE
END:VCALENDAR