BEGIN:VCALENDAR
VERSION:2.0
PRODID:-//wp-events-plugin.com//7.2.3.1//EN
TZID:Europe/Warsaw
X-WR-TIMEZONE:Europe/Warsaw
BEGIN:VEVENT
UID:6675@night4u.pl
DTSTART;TZID=Europe/Warsaw:20190215T210000
DTEND;TZID=Europe/Warsaw:20190216T040000
DTSTAMP:20190207T103512Z
URL:https://night4u.pl/wydarzenia/figle-bigle-2/
SUMMARY:Figle Bigle
DESCRIPTION:Kto ma ochotę na pofiglowanie w rytm największych hitów? Kol
 ejna fantastyczne spotkanie z najlepszymi przebojami hitami już 15 lutego
 ! :) Nie może Ciebie zabraknąć! :)\n\nZaczynamy o 21:00!\n\nWstęp od g
 odz. 21:00 - płatny: kobiety 5 zł\, mężczyźni 10 zł. \n\nOsoby\, kt
 óre wezmą udział w wydarzeniu\, do godz. 22:00 będą miały wstęp bez
 płatny!
ATTACH;FMTTYPE=image/jpeg:https://night4u.pl/wp-content/uploads/2019/02/19
 562_image_51315384_1933630606734285_6341723236375461888_o.jpg
CATEGORIES:śląskie
LOCATION:Pin-Up\, Plac Kou015Bciuszki 1\, Bytom\, 41-902\, Poland
GEO:50.347462;18.920302
X-APPLE-STRUCTURED-LOCATION;VALUE=URI;X-ADDRESS=Plac Kou015Bciuszki 1\, Byt
 om\, 41-902\, Poland;X-APPLE-RADIUS=100;X-TITLE=Pin-Up:geo:50.347462,18.92
 0302
END:VEVENT
BEGIN:VTIMEZONE
TZID:Europe/Warsaw
X-LIC-LOCATION:Europe/Warsaw
BEGIN:STANDARD
DTSTART:20181028T020000
TZOFFSETFROM:+0200
TZOFFSETTO:+0100
TZNAME:CET
END:STANDARD
END:VTIMEZONE
END:VCALENDAR