BEGIN:VCALENDAR
VERSION:2.0
PRODID:-//wp-events-plugin.com//7.2.3.1//EN
TZID:Europe/Warsaw
X-WR-TIMEZONE:Europe/Warsaw
BEGIN:VEVENT
UID:4438@night4u.pl
DTSTART;TZID=Europe/Warsaw:20190201T210000
DTEND;TZID=Europe/Warsaw:20190202T040000
DTSTAMP:20190120T192000Z
URL:https://night4u.pl/wydarzenia/filmowe-taneczne-piatki-z-udz-goraczka-s
 obotniej-nocy/
SUMMARY:Filmowe Taneczne Piątki z UDZ | Gorączka Sobotniej Nocy
DESCRIPTION:Razem z Urban Dance Zone - Szkoła Tańca w Łodzi startujemy  
 z cyklem warsztatów połączonych z filmowym motywem tanecznym \n\nReguł
 y są proste:\n1️⃣ Od 21:00 do 22:30 uczymy się animacji przygotowane
 j specjalnie pod motyw filmowy imprezy razem z instruktorami z Urban Dance
  Zone\n2️⃣ Do 22:00 wszyscy wchodzą za FREE\, kursanci UDZ mogą odeb
 rać specjalnie zaproszenia które umożliwią bezpłatne wejście do 24:0
 0 a do 23:00 darmowego drinka\n3️⃣ O 24:00 wszyscy wspólnie wykonujem
 y animację\n4️⃣ Podczas imprezy gramy hity filmowe oraz muzykę Disco
  & Dance\n5️⃣ Bawimy się do samego rana a podczas imprezy około godz
 . 1:00 wybieramy 3 najlepsze pary które wygrywają butelkę prosecco ?\n\
 nHarmonogram:\n11/01 - GREASE - instruktorzy: Paweł & Sandra\nFilmowe Tan
 eczne Piątki z Urban Dance Zone | Grease\n25/01 - MAMMA MIA! - instruktor
 zy: \nFilmowe Taneczne Piątki z Urban Dance Zone | Mamma Mia!\n01/02 - GO
 RĄCZKA SOBOTNIEJ NOCY - instruktorzy:\nFilmowe Taneczne Piątki z UDZ | G
 orączka Sobotniej Nocy\n15/02 - DIRTY DANCING - instruktorzy: Michał & E
 wa\nFilmowe Taneczne Piątki z Urban Dance Zone | Dirty Dancing\n\nStart: 
 21:00 - 22:30 (warsztaty) / 22:30 (impreza)\nSala główna: Motyw Filmowy 
 oraz Disco & Dance lat 70' i 80' & hity lat 90’ i 00'\nMała sala: Legen
 darne Polskie Przeboje\nWstęp: 10 PLN \nWstęp Kursanci UDZ: bezpłatne w
 ejście do 24:00 oraz darmowy drink do 23:00 (zaproszenia do odebrania pod
 czas zajęć oraz na recepcji)\n\nSTAŁA PROMOCJA NA KOKTAJLE\n? Piña Col
 ada 12 PLN ?\n? Cuba Libre 12 PLN ?\n\nInfo & Rezerwacje:\n☎️ 666 020 
 100
ATTACH;FMTTYPE=image/jpeg:https://night4u.pl/wp-content/uploads/2019/01/14
 743_image_49896734_362357201214105_8241321347943235584_o.jpg
CATEGORIES:łódzkie
LOCATION:Prywatka\, Andrzeja Struga 8/10\, Łódź\, 90-426\, Poland
GEO:51.765118;19.455113
X-APPLE-STRUCTURED-LOCATION;VALUE=URI;X-ADDRESS=Andrzeja Struga 8/10\, Łó
 dź\, 90-426\, Poland;X-APPLE-RADIUS=100;X-TITLE=Prywatka:geo:51.765118,19
 .455113
END:VEVENT
BEGIN:VTIMEZONE
TZID:Europe/Warsaw
X-LIC-LOCATION:Europe/Warsaw
BEGIN:STANDARD
DTSTART:20181028T020000
TZOFFSETFROM:+0200
TZOFFSETTO:+0100
TZNAME:CET
END:STANDARD
END:VTIMEZONE
END:VCALENDAR