BEGIN:VCALENDAR
VERSION:2.0
PRODID:-//wp-events-plugin.com//7.2.3.1//EN
TZID:Europe/Warsaw
X-WR-TIMEZONE:Europe/Warsaw
BEGIN:VEVENT
UID:18121@night4u.pl
DTSTART;TZID=Europe/Warsaw:20190608T220000
DTEND;TZID=Europe/Warsaw:20190609T050000
DTSTAMP:20190603T202727Z
URL:https://night4u.pl/wydarzenia/fire-punk-x-dj-mabu-x-sobota-8-06/
SUMMARY:Fire Punk x dj Mabu x sobota 8.06
DESCRIPTION:⭐️ Ależ się zapowiada sobota w Wysokich Tonach?\n\n⭐️
  Czy może być coś lepszego niż sobotnia impreza z muzyką na żywo  w 
 wykonaniu genialnych muzyków❓Takie rzeczy tylko w Wysokich Tonach❗️
 \n\n⭐️ Tym razem na wokalu obdarzona anielskim głosem Paulina Tarasi
 ńska ??\n\n⭐️Za decki ?wskakuje prosto z warszawskiego klubu Luzztro 
 ?  młody wiekiem ? a już doświadczony Mabu ?\n\n? Start 22:00 ?\nwstęp
  / ze względu na komfort i bezpieczeństwo naszych gości zastrzegamy sob
 ie prawo do selekcji\n\n⭐️Rezerwacje ☎️692 592 594☎️\n\n??Do z
 obaczenia w Wysokich??
ATTACH;FMTTYPE=image/jpeg:https://night4u.pl/wp-content/uploads/2019/06/43
 848_image_61942529_2378774182399496_4503978168608096256_o.jpg
CATEGORIES:podlaskie
END:VEVENT
BEGIN:VTIMEZONE
TZID:Europe/Warsaw
X-LIC-LOCATION:Europe/Warsaw
BEGIN:DAYLIGHT
DTSTART:20190331T030000
TZOFFSETFROM:+0100
TZOFFSETTO:+0200
TZNAME:CEST
END:DAYLIGHT
END:VTIMEZONE
END:VCALENDAR