BEGIN:VCALENDAR
VERSION:2.0
PRODID:-//wp-events-plugin.com//7.2.3.1//EN
TZID:Europe/Warsaw
X-WR-TIMEZONE:Europe/Warsaw
BEGIN:VEVENT
UID:43157@night4u.pl
DTSTART;TZID=Europe/Warsaw:20200403T200000
DTEND;TZID=Europe/Warsaw:20200403T230000
DTSTAMP:20200403T055714Z
URL:https://night4u.pl/wydarzenia/fisz-emade-tworzywo-3-04-2020-kawon/
SUMMARY:Fisz Emade Tworzywo // 3.04.2020 // Kawon
DESCRIPTION:Po sukcesach ostatnich projektów\, FISZ EMADE TWORZYWO powraca
  z nowym albumem „Radar”. \n\nTym razem panowie sięgają do muzyczneg
 o tygla lat 80.\, inspirując się muzyką disco\, ale też rockiem\; zar
 ówno klasyczną  Americaną jak i krautrockiem. Z inspiracji wydobywają 
 własne\, niepowtarzalne charakterystyczne brzmienie. Znajdziemy tu utrzym
 ane w klimacie lat 80. bity\, mocne rockowe solo i syntezatorowe dźwięki
 \, które w rękach znakomitych muzyków z zespołu TWORZYWO oczarowują s
 woim niezwykłym retro klimatem. \n\nTa autorska interpretacja muzyki lat 
 80. zabiera nas w piękną sentymentalną podróż – to  „muzyka drogi
 “. Z jednej strony daje wytchnienie\, z drugiej zmusza do wyostrzenia zm
 ysłów. Nastawienia swojego własnego „radaru”. Melancholijna\, ale i
  ironiczna. Opowiada historie miłosną w trudnych\, rozpolitykowanych i n
 iepewnych czasach.\n\nAutorem tekstów jest jak zwykle Bartek „Fisz” W
 aglewski. Za ścieżkę dźwiękową odpowiada niezmiennie Piotr „Emade
 ” Waglewski. Album jest dostępny w sprzedaży od 8 marca 2019 r. a sing
 lem promującym jest utwór „Dwa Ognie” który zadebiutował na podium
  listy przebojów radiowej Trójki.\n\nBilety w lokalu i na portalu abilet
 .pl \nZapraszamy !
ATTACH;FMTTYPE=image/jpeg:https://night4u.pl/wp-content/uploads/2020/01/13
 8048_image_83238239_2966096803423145_2957201793521549312_o.jpg
CATEGORIES:lubuskie
LOCATION:Kawon Piwnica Artystyczna\, Zamkowa 5\, Zielona Góra\, 65-086\, P
 oland
GEO:51.941922;15.502279
X-APPLE-STRUCTURED-LOCATION;VALUE=URI;X-ADDRESS=Zamkowa 5\, Zielona Góra\,
  65-086\, Poland;X-APPLE-RADIUS=100;X-TITLE=Kawon Piwnica Artystyczna:geo:
 51.941922,15.502279
END:VEVENT
BEGIN:VTIMEZONE
TZID:Europe/Warsaw
X-LIC-LOCATION:Europe/Warsaw
BEGIN:DAYLIGHT
DTSTART:20200329T030000
TZOFFSETFROM:+0100
TZOFFSETTO:+0200
TZNAME:CEST
END:DAYLIGHT
END:VTIMEZONE
END:VCALENDAR