BEGIN:VCALENDAR
VERSION:2.0
PRODID:-//wp-events-plugin.com//7.2.3.1//EN
TZID:Europe/Warsaw
X-WR-TIMEZONE:Europe/Warsaw
BEGIN:VEVENT
UID:6384@night4u.pl
DTSTART;TZID=Europe/Warsaw:20190314T190000
DTEND;TZID=Europe/Warsaw:20190314T210000
DTSTAMP:20190204T004153Z
URL:https://night4u.pl/wydarzenia/fisz-emade-tworzywo-lublin/
SUMMARY:Fisz Emade Tworzywo - Lublin
DESCRIPTION:Wraz z nową płytą zapraszamy na koncerty ! \;)\n\n14.02.2019
  Inowrocław\n\n15.02.2019 Pszczyna\n\n22.02.2019 Białystok\n\n24.02.2019
  Bydgoszcz\n\n08.03.2019 Gniezno\n\n14.03.2019 Lublin\n\n15.03.2019 Radom\
 n\n16.03.2019 Opole\n\n17.03.2019 Łódź\n\n22.03.2019 Nowy Sącz\n\n23.0
 3.2019 Rzeszów\n\n24.03.2019 Katowice\n\n29.03.2019 Toruń\n\n30.03.2019 
 Szczecin \n\n31.03.2019 Poznań\n\n05.04.2019 Włocławek\n\n06.04.2019 Os
 trowiec\n\n07.04.2019 Kraków\n\n12.04.2019 Gdańsk\n\n14.04.2019 Warszawa
 \n\n26.04.2019 Legnica
ATTACH;FMTTYPE=image/jpeg:https://night4u.pl/wp-content/uploads/2019/02/18
 875_image_49485811_2105575742814458_8156077250823847936_o.jpg
CATEGORIES:lubelskie
END:VEVENT
BEGIN:VTIMEZONE
TZID:Europe/Warsaw
X-LIC-LOCATION:Europe/Warsaw
BEGIN:STANDARD
DTSTART:20181028T020000
TZOFFSETFROM:+0200
TZOFFSETTO:+0100
TZNAME:CET
END:STANDARD
END:VTIMEZONE
END:VCALENDAR