BEGIN:VCALENDAR
VERSION:2.0
PRODID:-//wp-events-plugin.com//7.2.3.1//EN
TZID:Europe/Warsaw
X-WR-TIMEZONE:Europe/Warsaw
BEGIN:VEVENT
UID:27860@night4u.pl
DTSTART;TZID=Europe/Warsaw:20190928T200000
DTEND;TZID=Europe/Warsaw:20190929T050000
DTSTAMP:20190916T211625Z
URL:https://night4u.pl/wydarzenia/flames-of-love-sobota-28-09-club-80/
SUMMARY:Flames of Love // Sobota 28.09 - Club 80
DESCRIPTION:FLAMES OF LOVE // Sobota 28.09\n\nJuż 28 września zapraszamy 
 na najlepszą sobotnią imprezę! ?\n\nNajwiększe przeboje z lat 70' 80' 
 90'\, miła atmosfera oraz niezapomniany klimat gwarantują udaną zabawę
  razem z Club 80! Szykujcie się na muzyczną podróż w czasie. ?\n\n?Pam
 iętajcie o czekających na Was promocjach na barach. Szukajcie na mieści
 e naszych hostess. \n\nWidzimy się w Club 80! ?\n--\n? Imprezę nakręca:
  DJ BOB\n--\nℹ INFO\n\n➡ START: ? 20.00 | DOOR SELECTION\n\n➡ REZERW
 ACJE\n? 601 932 923\n\n➡ REGULAMIN KLUBU\nhttps://bit.ly/2AqoA65\n\n➡ 
 POROZMAWIAJ ONLINE \nm.me/Club80.Gliwice\n\n➡ WSTĘP\nPANIE - 10zł\nPAN
 OWIE - 15zł\n--\nwww.club80.pl\nwww.fb.com/Club80.Gliwice
ATTACH;FMTTYPE=image/jpeg:https://night4u.pl/wp-content/uploads/2019/09/64
 761_image_71181581_2205600169548298_7425081449201532928_o.jpg
CATEGORIES:śląskie
LOCATION:Club 80 Gliwice\, Dubois 22\, Gliwice\, 44-100\, Poland
GEO:50.300203;18.672661
X-APPLE-STRUCTURED-LOCATION;VALUE=URI;X-ADDRESS=Dubois 22\, Gliwice\, 44-10
 0\, Poland;X-APPLE-RADIUS=100;X-TITLE=Club 80 Gliwice:geo:50.300203,18.672
 661
END:VEVENT
BEGIN:VTIMEZONE
TZID:Europe/Warsaw
X-LIC-LOCATION:Europe/Warsaw
BEGIN:DAYLIGHT
DTSTART:20190331T030000
TZOFFSETFROM:+0100
TZOFFSETTO:+0200
TZNAME:CEST
END:DAYLIGHT
END:VTIMEZONE
END:VCALENDAR