BEGIN:VCALENDAR
VERSION:2.0
PRODID:-//wp-events-plugin.com//7.2.3.1//EN
TZID:Europe/Warsaw
X-WR-TIMEZONE:Europe/Warsaw
BEGIN:VEVENT
UID:10080@night4u.pl
DTSTART;TZID=Europe/Warsaw:20190323T210000
DTEND;TZID=Europe/Warsaw:20190324T040000
DTSTAMP:20190414T211703Z
URL:https://night4u.pl/wydarzenia/flower-power-night-powitanie-wiosny-jaca
 -iks-sunny-brothers/
SUMMARY:Flower Power Night - Powitanie Wiosny: Jaca/Iks & Sunny Brothers
DESCRIPTION:Wiosna - cieplejszy wieje wiatr\,\nWiosna - znów nam ubyło la
 t\,\nWiosna\, wiosna w koło\, rozkwitły bzy.\nŚpiewa skowronek nad nami
 \,\nDrzewa strzeliły pąkami\,\nWszystko kwitnie w koło\, i ja\, i Ty! :
 )\n\nWiosno przybywaj! Powitamy Cię w najlepszy możliwy sposób - ponadc
 zasowym\, starym\, dobrym rockiem oraz hipisowsko-psychodelicznym klimatem
 ! :)\nZatem dzwony na nogi\, kwiaty we włosy i przybywajcie w sobotę 23 
 marca do Klubu Metro\, aby wspólnie odpalić wehikuł czasu podczas impre
 zy Flower Power Night\, która to kultywuje i propaguje ponadczasową muzy
 kę\, oraz klimat lat 60. i początku 70. :)\n\nPo raz kolejny Jaca zagra 
 "Flower" z ekipą Sunny Brothers :)\n\nBędą do nabycia koszulki imprezow
 e :)\n\nNie zabraknie stałych punktów imprezy:\n- 00.00 wspólna fotka z
  "Peace" - symbolem pokoju :)\n- 00.05 wspólne śpiewanie "Give Peace A C
 hance" Johna Lennona :)\n- 00.30 konkurs z nagrodami piwnymi - wybory na n
 ajoryginalniejszy strój "flowerowy" :)\n\nBędzie można bawić się przy
  muzyce artystów tamtych lat\, takich jak np.:\nJanis Joplin\, Joan Baez\
 , Jimi Hendrix\, Carlos Santana\, Bob Dylan\, Scott Mckenzie\, Joe Cocker\
 , The Doors\, Jefferson Airplane\, Cream\, 13th Floor Elevators\, The Grat
 eful Dead\, The Yardbirds\, The Byrds\, The Mamas and Papas\, The Zombies\
 , Musical "Hair"\, Pink Floyd\, Jethro Tull\, King Crimson\, The Eagles\, 
 Steppenwolf\, Lynyrd Skynyrd\, The Rolling Stones\, The Beatles\, Animals\
 , The Who\, The Moody Blues\, Shocking Blue\, The Byrds\, T-Rex\, Thin Liz
 zy\, Led Zeppelin\, Black Sabbath\, Deep Purple...\n\n...oraz polskich art
 ystów tego okresu min.:\nMarka Grechuty\, Czesława Niemena\, Stana Borys
 a\, Tadeusza Woźniaka\, Maryli Rodowicz\, Anny Jantar\, 2+1\, Skaldów\, 
 Czerwonych Gitar\, Breakoutów\, Dżemu...\n\nNa dużym ekranie pojawi wiz
 ualizacja flowerowo-psychodeliczna\, oraz "zdjęciowa"\, która jest stwor
 zona ze zdjęć z wszystkich dotychczasowych edycji Flowerów :)\nBędzie 
 koncertowe nagłośnienie i światła\, dymy\, klimatyczny wystrój\, kwia
 ty - będzie klimat! \;)\n\nStroje z okresu "Flower Power" bardzo mile wid
 ziane i prawie obowiązkowe\, a właściciele najbardziej oryginalnych mog
 ą liczyć na prezenty chmielowe :)\n\nPrezentują: JACA/IKS & SUNNY BROTH
 ERS\n\nJACA\nDJ\, organizator\, animator muzyczny\, rezydent/menadżer Klu
 bu Metro.\n( nieślubne dziecko Janis Joplin i Jim'a Morrisona \;) )\nJego
  przygoda z klimatami flowerowymi zaczęła się dawno temu\, kiedy to pew
 nego wieczoru w Radiowej Trójce usłyszał "Riders on the storm". Organy 
 Ray'a i głos Jim'a przeniosły go w inny świat i sprawiły\, że od tamt
 ej pory muzyka smakowała mu inaczej\, lepiej...\nSwoją 1-szą imprezę F
 LOWER POWER NIGHT zorganizował/zagrał w sierpniu 2012 w gdańskim Klubie
  Buffet\, na którą przyszło ponad 120 osób.\nhttps://www.youtube.com/w
 atch?v=TnPOSs04aCk\n\nhttp://trojmiasto.tv/Klub-METRO-Nocne-zycie-Trojmias
 ta-8437.html\nhttps://web.facebook.com/flowerpowernight/\n\nIKS\nEnigmatyc
 zna postać...\n\nSUNNY BROTHERS\nEkipa pasjonatów muzycznych\, którzy o
 rganizowali/grali imprezy "Flower Power" w latach 1996 - 2006. Imprezy odb
 ywały się m.in. w klubach: Żak (stary)\, Burdl\, Kaponiera\, Forty\, Gg
 og. Grali też jako sundsystem na Woodstocku w Żarach.\n\nPonad 25 gatunk
 ów piwa!\nCydry\, shoty\, drinki i dużo różnych alkoholi!\nWjazd 10 z
 ł\nWstęp +18\n\n...to nie będzie zwykła impreza\, to będzie "Flower"!
  \;)\nPEACE & LOVE & MUSIC! :)\n\nps. Facebook wprowadził dla organizator
 ów imprez/koncertów bardzo duże ograniczenia ilości zaproszeń (50 os
 ób)\, więc prośba i uśmiech do Was\, abyście zapraszali się nawzajem
  i udostępniali wydarzenie :)\n(z góry dziękujemy w imieniu organizator
 ów :) )
ATTACH;FMTTYPE=image/jpeg:https://night4u.pl/wp-content/uploads/2019/03/26
 656_image_53518776_2112255715557122_967566607490482176_o.jpg
CATEGORIES:pomorskie
LOCATION:Klub Medyk\, ul. Dębowa 7\, Gdansk\, 80-204\, Poland
GEO:54.361387;18.629299
X-APPLE-STRUCTURED-LOCATION;VALUE=URI;X-ADDRESS=ul. Dębowa 7\, Gdansk\, 80
 -204\, Poland;X-APPLE-RADIUS=100;X-TITLE=Klub Medyk:geo:54.361387,18.62929
 9
END:VEVENT
BEGIN:VTIMEZONE
TZID:Europe/Warsaw
X-LIC-LOCATION:Europe/Warsaw
BEGIN:STANDARD
DTSTART:20181028T020000
TZOFFSETFROM:+0200
TZOFFSETTO:+0100
TZNAME:CET
END:STANDARD
END:VTIMEZONE
END:VCALENDAR