BEGIN:VCALENDAR
VERSION:2.0
PRODID:-//wp-events-plugin.com//7.2.3.1//EN
TZID:Europe/Warsaw
X-WR-TIMEZONE:Europe/Warsaw
BEGIN:VEVENT
UID:48058@night4u.pl
DTSTART;TZID=Europe/Warsaw:20200305T210000
DTEND;TZID=Europe/Warsaw:20200306T040000
DTSTAMP:20200331T141442Z
URL:https://night4u.pl/wydarzenia/fluo-party-13/
SUMMARY:Fluo Party
DESCRIPTION:Sesja\, sesja i po sesji 🥳\nZ tej okazji przygotowaliśmy dl
 a Was FLUO PARTY 🎉\nSzykujcie się na hektolitry fabry FLUOrescencyjnej
  i wiele więcej 🎨\n\n❤️ 05.03.2020\n🧡 21.00\n💛 Klub Studenck
 i Spirala\n💚 Wejście 5 zł studenci\, 10 zł pozostali
ATTACH;FMTTYPE=image/jpeg:https://night4u.pl/wp-content/uploads/2020/02/16
 2089_image_86796303_10157979769848996_4486101797462605824_n.jpg
CATEGORIES:śląskie
LOCATION:Klub Studencki Spirala\, Pszczyńska 85\, Gliwice\, 44-100\, Polan
 d
GEO:50.28534;18.67771
X-APPLE-STRUCTURED-LOCATION;VALUE=URI;X-ADDRESS=Pszczyńska 85\, Gliwice\, 
 44-100\, Poland;X-APPLE-RADIUS=100;X-TITLE=Klub Studencki Spirala:geo:50.2
 8534,18.67771
END:VEVENT
BEGIN:VTIMEZONE
TZID:Europe/Warsaw
X-LIC-LOCATION:Europe/Warsaw
BEGIN:STANDARD
DTSTART:20191027T020000
TZOFFSETFROM:+0200
TZOFFSETTO:+0100
TZNAME:CET
END:STANDARD
END:VTIMEZONE
END:VCALENDAR