BEGIN:VCALENDAR
VERSION:2.0
PRODID:-//wp-events-plugin.com//7.2.3.1//EN
TZID:Europe/Warsaw
X-WR-TIMEZONE:Europe/Warsaw
BEGIN:VEVENT
UID:6069@night4u.pl
DTSTART;TZID=Europe/Warsaw:20190207T200000
DTEND;TZID=Europe/Warsaw:20190208T020000
DTSTAMP:20190201T053245Z
URL:https://night4u.pl/wydarzenia/fluo-party-7-02-czwartek-twenty-club-dj-
 dnu/
SUMMARY:Fluo Party / 7.02 (czwartek) / Twenty Club / DJ DNU
DESCRIPTION:? FLUO Party ? \n\nczyli jedyny taki balet w mieście!\n \nPrzy
 gotowaliśmy dla Was mnóstwo:\n? świecących w ciemnościach gadżetów 
 ?\n? farb do ciała \n? kredek flurestencyjnych\n? darmowe przygotowanie f
 luo make-up \n\nOdpalamy lampy uv\, gasimy światło i rzucamy się w wir 
 szalonej imprezy. Tłuste beaty na tą noc selekcjonuje DJ DNU. \n\nTo ide
 alna okazja\, żeby uwolnić emocje po sesji. Korzystajcie z najlepszych p
 romocji studenckich do woli: \n\nPromocje studecnkie: \n?Piwo | 4PLN\n?Dri
 nk | 4 PLN\n\nInfo o imprezie ??\n\n?Kiedy: 7.02 (czwartek) \n?Gdzie: Klub
  Twenty\, ul. Stary Rynek 20 \nWstęp: za darmo ???\nSelekcja muzyczna: DJ
  DNU\n\n---\nWsparcie medialne: \nInfo Bydgoszcz\nTanio w mieście - Bydgo
 szcz
ATTACH;FMTTYPE=image/jpeg:https://night4u.pl/wp-content/uploads/2019/02/18
 169_image_51464677_2234292116789426_5100261818480197632_o.jpg
CATEGORIES:kujawsko-pomorskie
LOCATION:Twenty Club &amp\; Garden\, Stary Rynek 20\, Bydgoszcz\, 85-530\, 
 Poland
GEO:53.121635;18.000337
X-APPLE-STRUCTURED-LOCATION;VALUE=URI;X-ADDRESS=Stary Rynek 20\, Bydgoszcz\
 , 85-530\, Poland;X-APPLE-RADIUS=100;X-TITLE=Twenty Club & Garden:geo:53.1
 21635,18.000337
END:VEVENT
BEGIN:VTIMEZONE
TZID:Europe/Warsaw
X-LIC-LOCATION:Europe/Warsaw
BEGIN:STANDARD
DTSTART:20181028T020000
TZOFFSETFROM:+0200
TZOFFSETTO:+0100
TZNAME:CET
END:STANDARD
END:VTIMEZONE
END:VCALENDAR