BEGIN:VCALENDAR
VERSION:2.0
PRODID:-//wp-events-plugin.com//7.2.3.1//EN
TZID:Europe/Warsaw
X-WR-TIMEZONE:Europe/Warsaw
BEGIN:VEVENT
UID:14554@night4u.pl
DTSTART;TZID=Europe/Warsaw:20190525T220000
DTEND;TZID=Europe/Warsaw:20190525T220000
DTSTAMP:20190430T145742Z
URL:https://night4u.pl/wydarzenia/fluo-party-dj-sajmon/
SUMMARY::: Fluo Party :: Dj Sajmon
DESCRIPTION:★FLUO PARTY ★\n\nŚWIECĄCE GADŻETY\nFLUO DRINY\nMALOWANIE
  FARBAMI \nAGWA POLSKA\n\nFLUO PARTY to najbardziej rażąca BIBA! \nOgrom
 na ilość świecących gadżetów i kolorowe farby na waszych ciałach i 
 ciuchach! \n\nMimo\, że będzie super ciemno\, będziecie doskonale widoc
 zni!\nUbierzcie się na biało - UV i malowanki zrobią robotę!\nNa barze
  tej nocy rządzi AGWA - Boliwijski likier z liści KOKI!\n\n::PROMO::\n
 ⚠️ Wjazd Free & Bar -50% do 23 \n\n::MUSIC::\n? Dj Sajmon - Sky Club L
 egnica // House\, Deep House\, NuDisco\, Funky&Disco House\n\n____________
 ____\n►Start: 22:00 | Selekcja |\n- Rezerwacje: 666 13 14 15
ATTACH;FMTTYPE=image/jpeg:https://night4u.pl/wp-content/uploads/2019/04/36
 196_image_58420308_10156143918197327_8088301086345003008_n.jpg
CATEGORIES:opolskie
LOCATION:Aqarium Music Club\, ul. Franciszkańska 1\, Opole\, 45-021\, Pola
 nd
GEO:50.66778;17.92274
X-APPLE-STRUCTURED-LOCATION;VALUE=URI;X-ADDRESS=ul. Franciszkańska 1\, Opo
 le\, 45-021\, Poland;X-APPLE-RADIUS=100;X-TITLE=Aqarium Music Club:geo:50.
 66778,17.92274
END:VEVENT
BEGIN:VTIMEZONE
TZID:Europe/Warsaw
X-LIC-LOCATION:Europe/Warsaw
BEGIN:DAYLIGHT
DTSTART:20190331T030000
TZOFFSETFROM:+0100
TZOFFSETTO:+0200
TZNAME:CEST
END:DAYLIGHT
END:VTIMEZONE
END:VCALENDAR