BEGIN:VCALENDAR
VERSION:2.0
PRODID:-//wp-events-plugin.com//7.2.3.1//EN
TZID:Europe/Warsaw
X-WR-TIMEZONE:Europe/Warsaw
BEGIN:VEVENT
UID:46484@night4u.pl
DTSTART;TZID=Europe/Warsaw:20200208T220000
DTEND;TZID=Europe/Warsaw:20200209T050000
DTSTAMP:20200208T041026Z
URL:https://night4u.pl/wydarzenia/fluo-party-lista-free-do-2300-6/
SUMMARY:Fluo Party // Lista Free Do 23:00
DESCRIPTION:LISTA FB WCHODZI FREE DO 23:00! \nWYSTARCZY KLIKNĄĆ "WEZMĘ U
 DZIAŁ"\nLISTĘ ZAMYKAMY O 19:00!\n\nZapraszamy na kolorowe FLUO PARTY.\nS
 zykujemy dla Was farbki UV i świecące gadżety ♥\nWy także możecie s
 ię odpimpować akuratnie do imprezy :)\nLET'S BE FLUO ♥ ♥ ♥\n\n====
 ================================\nZAGRAJĄ:\n=============================
 =======\nHEAVEN: BPmusic\n====================================\nHELL: Nort
 \n====================================\n\nSTART: \n\n22:00 \n\nWstęp 18 z
 ł\n\nLISTA FB FREE DO 23:00 / LISTĘ ZAMYKAMY O 19:00
ATTACH;FMTTYPE=image/jpeg:https://night4u.pl/wp-content/uploads/2020/02/15
 2451_image_84835961_2485278955079268_6407040282969243648_o.jpg
CATEGORIES:pomorskie
LOCATION:HAH Sopot\, Aleja Franciszka Mamuszki 21 (obok wejścia nr 13 na p
 lażę)\, Sopot\, 81-712\, Poland
GEO:54.453133;18.563739
X-APPLE-STRUCTURED-LOCATION;VALUE=URI;X-ADDRESS=Aleja Franciszka Mamuszki 2
 1 (obok wejścia nr 13 na plażę)\, Sopot\, 81-712\, Poland;X-APPLE-RADIU
 S=100;X-TITLE=HAH Sopot:geo:54.453133,18.563739
END:VEVENT
BEGIN:VTIMEZONE
TZID:Europe/Warsaw
X-LIC-LOCATION:Europe/Warsaw
BEGIN:STANDARD
DTSTART:20191027T020000
TZOFFSETFROM:+0200
TZOFFSETTO:+0100
TZNAME:CET
END:STANDARD
END:VTIMEZONE
END:VCALENDAR