BEGIN:VCALENDAR
VERSION:2.0
PRODID:-//wp-events-plugin.com//7.2.3.1//EN
TZID:Europe/Warsaw
X-WR-TIMEZONE:Europe/Warsaw
BEGIN:VEVENT
UID:2014@night4u.pl
DTSTART;TZID=Europe/Warsaw:20190111T210000
DTEND;TZID=Europe/Warsaw:20190113T040000
DTSTAMP:20181231T132613Z
URL:https://night4u.pl/wydarzenia/fluo-party-rozpoczecie-ferii-kregielnia-
 inowroclaw-16/
SUMMARY:FLUO Party - Rozpoczęcie Ferii / Kręgielnia Inowrocław / +16
DESCRIPTION:Dobry wieczór Inowrocław! ❤️\n\nWracamy do Was po świąt
 ecznej przerwie z nowym tematem! Mamy nadzieje\, że i tym razem pokażeci
 e na co Was stać! ?\n\n❄️Rozpoczęcie Ferii Zimowych 2019❄️\n\n11
 .01 zapraszamy na Oficjalnie Rozpoczęcie Ferii Zimowych w wybuchowym styl
 u!?Tym razem w Kręgielnia Inowrocław spotykamy się na FLUO Party! Tego 
 jeszcze nie było! \n\nCo dla Was przygotowaliśmy? ?\n\n?Malowanie ciała
  - FARBAMI FLUO \n?Świecące PAŁECZEKI LED \n?Specjalnie dla Was będzie
 my rozdawać uszy\, okulary i inne świecące gadżety! \n\n?Dla każdego 
 gościa imprezy rozdawać będziemy dwukolorowe OPASKI FLUO\n⭕️CZERWON
 A - Zajęty ?\n✅ZIELONA - singiel i szukam zabawy ?\n*i wiele innych nie
 spodzianek ?\n\nTo będzie magiczna noc\, wspaniałej zabawy i wielu innyc
 h niespodzianek... FLUO Party to NIECODZIENNA zabawa!\nTo będzie noc peł
 na kolorów szampanskiej zabawy w styczniu\, jak i niespodzianek.\n\nW skr
 ócie: \n❄️Rozpoczęcie Ferii Zimowych - FLUO Party! ?\n❄️ 11/01\,
  piątek\n❄️Start: 21:00 \n❄️ Kręgielnia Inowrocław\n❄️Bilet
 y w przedsprzedaży u naszych promotorów \n❄️Wstęp od ukończonych 1
 6 lat!\n\nPamiętaj! Liceum to nie tylko nauka – to też najlepszy okres
  życia – czas na imprezy!\n\n❗❗ Poświęć 3 minuty i WEJDŹ ZA DAR
 MO ❗❗\nChcesz wejść za darmo na imprezę jak VIP ??! Wystarczy że z
 aprosisz znajomych na wydarzenie! (próg minimalny to 300 znajomych!) i wr
 zucisz screen na tablicę wydarzenia gdy to robisz! Oprócz tego wystarczy
  udostępnić wydarzenie i darmowa wejściówka jest Twoja! Nic prostszego
  ?! Ilość darmowych wejść jest ograniczona więc radzimy się śpieszy
 ć!\n___________________________________________________\n\n❗❗ UWAGA 
 ❗❗ \nChcesz zostać naszym promotorem\, dorobić do kieszonkowego i ś
 wietnie się bawić? Napisz do nas na fanpage - @Imprezowy Inowrocław\, z
 ostaw swój numer telefonu oraz napisz\, z której szkoły jesteś! :)
ATTACH;FMTTYPE=image/jpeg:https://night4u.pl/wp-content/uploads/2018/12/80
 31_image_48383150_1129680517184897_9179588826706739200_o.jpg
CATEGORIES:kujawsko-pomorskie
END:VEVENT
BEGIN:VTIMEZONE
TZID:Europe/Warsaw
X-LIC-LOCATION:Europe/Warsaw
BEGIN:STANDARD
DTSTART:20181028T020000
TZOFFSETFROM:+0200
TZOFFSETTO:+0100
TZNAME:CET
END:STANDARD
END:VTIMEZONE
END:VCALENDAR