BEGIN:VCALENDAR
VERSION:2.0
PRODID:-//wp-events-plugin.com//7.2.3.1//EN
TZID:Europe/Warsaw
X-WR-TIMEZONE:Europe/Warsaw
BEGIN:VEVENT
UID:16212@night4u.pl
DTSTART;TZID=Europe/Warsaw:20190817T180000
DTEND;TZID=Europe/Warsaw:20190817T235900
DTSTAMP:20190515T212206Z
URL:https://night4u.pl/wydarzenia/follow-the-sunset-3/
SUMMARY:Follow The Sunset
DESCRIPTION:Follow The Sunset with Sebastian Mlax\nŚledź zachód słońca
  razem z nami !\n\nKażda sobota od godz 1️⃣8️⃣\nWstęp darmowy do
  godz 21:00\, później 15 zł (lub w zależności od imprezy)\nGra Sebast
 ian Mlax\nNajlepszy\, tylko dobrze wyselekcjonowany house\, wspaniałe dri
 nki a wszytko to w samym centrum Poznania na dachu Galeria MM
ATTACH;FMTTYPE=image/jpeg:https://night4u.pl/wp-content/uploads/2019/05/39
 717_image_60167753_833458710344447_4275441073297293312_o.jpg
CATEGORIES:wielkopolskie
LOCATION:Na Tarasie\, Święty Marcin 24\, Poznan\, 61-248\, Poland
GEO:52.407105;16.928558
X-APPLE-STRUCTURED-LOCATION;VALUE=URI;X-ADDRESS=Święty Marcin 24\, Poznan
 \, 61-248\, Poland;X-APPLE-RADIUS=100;X-TITLE=Na Tarasie:geo:52.407105,16.
 928558
END:VEVENT
BEGIN:VTIMEZONE
TZID:Europe/Warsaw
X-LIC-LOCATION:Europe/Warsaw
BEGIN:DAYLIGHT
DTSTART:20190331T030000
TZOFFSETFROM:+0100
TZOFFSETTO:+0200
TZNAME:CEST
END:DAYLIGHT
END:VTIMEZONE
END:VCALENDAR