BEGIN:VCALENDAR
VERSION:2.0
PRODID:-//wp-events-plugin.com//7.2.3.1//EN
TZID:Europe/Warsaw
X-WR-TIMEZONE:Europe/Warsaw
BEGIN:VEVENT
UID:22953@night4u.pl
DTSTART;TZID=Europe/Warsaw:20190727T180000
DTEND;TZID=Europe/Warsaw:20190727T235900
DTSTAMP:20190724T170142Z
URL:https://night4u.pl/wydarzenia/follow-the-sunset-with-sebastian-mlax-dj
 -casprov/
SUMMARY:Follow The Sunset with Sebastian Mlax & Dj Casprov
DESCRIPTION:Gościem specjalnym Follow The Sunset będzie Dj Casprov\n\n? D
 ata: 27.07\n? Start: 19:00\nNa Tarasie\, Święty Marcin 24 \nGaleria MM\,
  3 piętro\nWstęp darmowy do godz 21:00\, później 15 zł\n\nDj Casprov(
 Kacper Ochendal) -  od najmłodszych lat pasjonował się muzyką. Graniem
  zainteresował się w wieku 9 lat\,\nW roku 2002 zaczął naśladować r
 óżnych Dj'i\, np.: Tiesto\, Paul van Dyk. Dwa lata później słuchając
  setów z Sunrise 2004 "zakochał się" w muzyce house co w 2006 roku zaow
 ocowało debiutem w jednym z największych klubów w Polsce: Terminal Club
 + (Sępólno Krajeńskie).  W 2008 roku wystąpił na największym evencie
  muzyki elektronicznej w Europie: "Tunnel Electrocity" w Lubiążu\, gdzie
  miał okazje poruszyć kilkunastotysięczną publiczność. \nEnergetyczn
 e sety jakie prezentuje oraz pasja i zaangażowanie z jakim oddaje się te
 mu co robi zaowocowały tym\, że zaczął grywać w klubach na terenie ca
 łego kraju... \nOd tego momentu jego kariera zaczęła nabierać rozpędu
 . \nW roku 2018 wydał singiel "Conclusions" \nta produkcja została zauwa
 żona przez radio "Weekend Fm" gdzie wspięła się na najwyższy szczyt l
 isty'HIT PORTu". \nW 2019roku z pod ręki Kacpra pojawiła się znakomita 
 produkcja "You And Me" wydana w "Cherry Pepper Music" utwór ten grany jes
 t w kilku rozgłośniach radiowych w Polsce klika tygodni pozniej został 
 zauwazony za granicami naszego kraju grany w największej rozgłośni radi
 owej w Niemczech N-Joy\, \nYou And Me doceniają również w Rosji USA czy
  Brazylii. Casprov cały czas nie spoczywa na laurach i ciężko pracuje w
 ziął udził w konkursie organizowanym przez XONI Records na najlepszy re
 mix "I Like You"z Inox-a z Nickiem Sincklerem gdzie jego praca została do
 ceniona w postaci wydania oficjalnego w XONI Records i występu na żywo w
  XONI ON AIR. \nJak sam mówi: "Nic nie dotyka nas głębiej ani szybciej 
 niż muzyka Ci\, którzy kochają ją nigdy nie czują się samotni" \n\n\
 n\nLinki Casprov: \n\nfacebook.com/casprov86/ \ninstagram.com/casprov86/ \
 n\n\n\nCasprov - No One  \nyoutube.com/watch?v=l5OmZcxa0Ro \n\n\nCasprov -
  You And Me \nyoutube.com/watch?v=Hx2hFb44kEM \n\nDJ Inox feat. Nick Sinck
 ler - I Like You (Casprov Remix) \nyoutube.com/watch?v=6Om-KFANDaw \n\nCas
 prov - Conclusions \nyoutube.com/watch?v=P2_vwtP_wbA&t=85s \n\nCasprov Xon
 i On Air  \nyoutube.com/watch?v=qHsMJVZ4Wc0&t=1223s
ATTACH;FMTTYPE=image/jpeg:https://night4u.pl/wp-content/uploads/2019/07/54
 244_image_67212926_881201705570147_1199863968143769600_o.jpg
CATEGORIES:wielkopolskie
LOCATION:Na Tarasie\, Święty Marcin 24\, Poznan\, 61-248\, Poland
GEO:52.407105;16.928558
X-APPLE-STRUCTURED-LOCATION;VALUE=URI;X-ADDRESS=Święty Marcin 24\, Poznan
 \, 61-248\, Poland;X-APPLE-RADIUS=100;X-TITLE=Na Tarasie:geo:52.407105,16.
 928558
END:VEVENT
BEGIN:VTIMEZONE
TZID:Europe/Warsaw
X-LIC-LOCATION:Europe/Warsaw
BEGIN:DAYLIGHT
DTSTART:20190331T030000
TZOFFSETFROM:+0100
TZOFFSETTO:+0200
TZNAME:CEST
END:DAYLIGHT
END:VTIMEZONE
END:VCALENDAR