BEGIN:VCALENDAR
VERSION:2.0
PRODID:-//wp-events-plugin.com//7.2.3.1//EN
TZID:Europe/Warsaw
X-WR-TIMEZONE:Europe/Warsaw
BEGIN:VEVENT
UID:18159@night4u.pl
DTSTART;TZID=Europe/Warsaw:20190605T210000
DTEND;TZID=Europe/Warsaw:20190606T060000
DTSTAMP:20190603T203638Z
URL:https://night4u.pl/wydarzenia/fortune-wheel-xdemon-zielona-gora/
SUMMARY:Fortune Wheel // Xdemon Zielona Góra
DESCRIPTION:Najlepsza studencka impreza w mieście❗????\nKto będzie mia
 ł odwagę zakręcić naszym kołem fortuny? Nagroda a może zonk ? Przyjd
 ź i sprawdź\, czy to właśnie TOBIE się poszczęści\n✖️Studenci z
 a bilety nie płacą✌?\n✖️na barach promocja 4/5/6\n✖️Open Bar d
 o 24:00\n\n☎ Rezerwacje ONLINE http://bit.ly/1RtF806\nINFO: 797 407 885 
 ☎\n\nNie zapomnij o kuszących promocjach w klubie X-DEMON:\n\nPROMOCJA 
 URODZINOWA\nPROMOCJA NA WIECZÓR PANIEŃSKI \n\nOBSERWUJ NAS:\nwww.xdemon.
 pl\nwww.facebook.com/XDemon\nwww.instagram.com/xdemonzielonagora\nsnapchat
 : xdemonzg
ATTACH;FMTTYPE=image/jpeg:https://night4u.pl/wp-content/uploads/2019/06/43
 941_image_61848496_3174351789245250_7354690023301578752_o.jpg
CATEGORIES:lubuskie
END:VEVENT
BEGIN:VTIMEZONE
TZID:Europe/Warsaw
X-LIC-LOCATION:Europe/Warsaw
BEGIN:DAYLIGHT
DTSTART:20190331T030000
TZOFFSETFROM:+0100
TZOFFSETTO:+0200
TZNAME:CEST
END:DAYLIGHT
END:VTIMEZONE
END:VCALENDAR