BEGIN:VCALENDAR
VERSION:2.0
PRODID:-//wp-events-plugin.com//7.2.3.1//EN
TZID:Europe/Warsaw
X-WR-TIMEZONE:Europe/Warsaw
BEGIN:VEVENT
UID:50128@night4u.pl
DTSTART;TZID=Europe/Warsaw:20200313T230000
DTEND;TZID=Europe/Warsaw:20200314T050000
DTSTAMP:20200314T001322Z
URL:https://night4u.pl/wydarzenia/fresh-basement-lista-fb-free/
SUMMARY:Fresh Basement | Lista FB free
DESCRIPTION:WYDARZENIE ANULOWANE\n\nFresh Basement ! \n\nWypachniona\, odku
 rzona piwnica\, skrywa wiele niespodzianek. a porządki najlepiej robić w
  piątek 13-go.  \nŚwieże i dawno nie widziane postaci. Rezydenci w nowe
 j formule\, stare rzeczy po nowemu\, nowe\, a jeszcze nie rozpakowane ! \n
 \nW ramach tej konwencji :\n\nRezydent Atis otwiera szuflady z połamanymi
  bitami i eterycznym lo-fi.\n\nSeinty zapalczywie walczący o swój czas n
 a warmupie wejdzie w klimat deephouse i progressive.\n\nDawno nie widziany
  Jaszczur przypompuje 130 bpm w środku nocy.\n\nToona da nam popalić old
 shoolowym techno i newschoolowym Ravem.   \n\nLista FB Free (wezmę udzia
 ł) - lista zamykana o godzinie 20:00\ntax-10pln
ATTACH;FMTTYPE=image/jpeg:https://night4u.pl/wp-content/uploads/2020/03/17
 5140_image_89546550_1541921865988768_88219555972775936_o.jpg
CATEGORIES:warmińsko-mazurskie
LOCATION:Pijana Czapla\, ul. Górna 1\, Olsztyn\, Poland
GEO:53.774456;20.47424
X-APPLE-STRUCTURED-LOCATION;VALUE=URI;X-ADDRESS=ul. Górna 1\, Olsztyn\, Po
 land;X-APPLE-RADIUS=100;X-TITLE=Pijana Czapla:geo:53.774456,20.47424
END:VEVENT
BEGIN:VTIMEZONE
TZID:Europe/Warsaw
X-LIC-LOCATION:Europe/Warsaw
BEGIN:STANDARD
DTSTART:20191027T020000
TZOFFSETFROM:+0200
TZOFFSETTO:+0100
TZNAME:CET
END:STANDARD
END:VTIMEZONE
END:VCALENDAR