BEGIN:VCALENDAR
VERSION:2.0
PRODID:-//wp-events-plugin.com//7.2.3.1//EN
TZID:Europe/Warsaw
X-WR-TIMEZONE:Europe/Warsaw
BEGIN:VEVENT
UID:39875@night4u.pl
DTSTART;TZID=Europe/Warsaw:20191226T220000
DTEND;TZID=Europe/Warsaw:20191227T050000
DTSTAMP:20191226T104825Z
URL:https://night4u.pl/wydarzenia/fresh-juicy-christmas-edition-26-12-simp
 le-no-mercy-czill/
SUMMARY:Fresh &amp\; Juicy Christmas Edition / 26.12/ Simple\, No Mercy\, C
 zill
DESCRIPTION:Świeżo i soczyście może być również w Święta :)\nW dru
 gi dzień Świąt zapraszamy na imprezę "Fresh &amp\; Juicy"\nCzyli cała
  mieszanka miejskich brzmień nu skool\, grime\, elektronika\, trapy i rap
 sy i pewnie wiele więcej :) Świąteczny klimat do tego miła wesoła atm
 osfera a za sterami fajne chłopaki tj. Simple\, No Mercy i Czill. Nie bę
 dziecie się u nas nudzić. \nZapraszamy serdecznie\n\nSTART 22:00\nWSTĘP
  15 ZŁ\n\nMUSIC BY:\n\n✽  SIMPLE ✽ \n✽  NO MERCY ✽ \n✽  DJ CZIL
 L ✽ \n\nINFORMACJE ORGANIZACYJNE :\n\nWstęp do klubu za okazaniem dokum
 entu potwierdzającego pełnoletność.\n\nOpłata za wstęp nie upoważni
 a do kolejnego wejścia tego samego wieczoru bez płacenia na imprezę.\n\
 nLiczba miejsc w Klubie ograniczona. Klub nie odpowiada za długi czas ocz
 ekiwania na wejście.\n\nKażdy uczestnik wydarzenia jest zobowiązany zap
 oznać się z nowym regulaminem Klubu Rura.
ATTACH;FMTTYPE=image/jpeg:https://night4u.pl/wp-content/uploads/2019/12/12
 0120_image_80459464_3289932531077074_5060210325027028992_o.jpg
CATEGORIES:śląskie
LOCATION:Klub Rura\, Aleja Najświętszej Maryi Panny 38\, Czestochowa\, 42
 -202\, Poland
GEO:50.81223;19.115088
X-APPLE-STRUCTURED-LOCATION;VALUE=URI;X-ADDRESS=Aleja Najświętszej Maryi 
 Panny 38\, Czestochowa\, 42-202\, Poland;X-APPLE-RADIUS=100;X-TITLE=Klub R
 ura:geo:50.81223,19.115088
END:VEVENT
BEGIN:VTIMEZONE
TZID:Europe/Warsaw
X-LIC-LOCATION:Europe/Warsaw
BEGIN:STANDARD
DTSTART:20191027T020000
TZOFFSETFROM:+0200
TZOFFSETTO:+0100
TZNAME:CET
END:STANDARD
END:VTIMEZONE
END:VCALENDAR