BEGIN:VCALENDAR
VERSION:2.0
PRODID:-//wp-events-plugin.com//7.2.3.1//EN
TZID:Europe/Warsaw
X-WR-TIMEZONE:Europe/Warsaw
BEGIN:VEVENT
UID:41969@night4u.pl
DTSTART;TZID=Europe/Warsaw:20200215T220000
DTEND;TZID=Europe/Warsaw:20200216T040000
DTSTAMP:20200331T145926Z
URL:https://night4u.pl/wydarzenia/fresh-n-dope-festival-oficjalne-afterpar
 ty-drugie-dno-2/
SUMMARY:Fresh N Dope Festival | Oficjalne Afterparty @Drugie Dno
DESCRIPTION:Po festiwalu Fresh N Dope zapraszamy wszystkich na afterparty! 
 Wychodząc naprzeciw oczekiwaniom dajemy Wam opcje przedłużenia imprezy 
 do samego rana bawiąc się przy starannie wyselekcjonowanej muzyce.\n\nZa
 grają:\n▪️ Serio92 \n▪️ Gavor_BWS \n▪️ Novicky \n\nWSTĘP: 10
  PLN  | 18+\n\n\n\n\nRAP MUSIC ALL NIGHT LONG.
ATTACH;FMTTYPE=image/jpeg:https://night4u.pl/wp-content/uploads/2020/01/13
 2378_image_81991492_1767207206742528_1867390744520556544_o.jpg
CATEGORIES:dolnośląskie
LOCATION:Drugie Dno\, Ruska  51\, Wroclaw\, Poland
GEO:51.110101;17.02543
X-APPLE-STRUCTURED-LOCATION;VALUE=URI;X-ADDRESS=Ruska  51\, Wroclaw\, Polan
 d;X-APPLE-RADIUS=100;X-TITLE=Drugie Dno:geo:51.110101,17.02543
END:VEVENT
BEGIN:VTIMEZONE
TZID:Europe/Warsaw
X-LIC-LOCATION:Europe/Warsaw
BEGIN:STANDARD
DTSTART:20191027T020000
TZOFFSETFROM:+0200
TZOFFSETTO:+0100
TZNAME:CET
END:STANDARD
END:VTIMEZONE
END:VCALENDAR