BEGIN:VCALENDAR
VERSION:2.0
PRODID:-//wp-events-plugin.com//7.2.3.1//EN
TZID:Europe/Warsaw
X-WR-TIMEZONE:Europe/Warsaw
BEGIN:VEVENT
UID:20882@night4u.pl
DTSTART;TZID=Europe/Warsaw:20190719T220000
DTEND;TZID=Europe/Warsaw:20190720T050000
DTSTAMP:20190704T023358Z
URL:https://night4u.pl/wydarzenia/friday-bangerz-dj-michelle-11/
SUMMARY:Friday Bangerz/Dj Michelle
DESCRIPTION:Nowa odsłona piątkowego melanżu!\n#FRIDAYBANGERZ!\n\nMocne\,
  czarne rytmy już w ten piątek!\n\n✔22:00-23:00 -50% dla #WSZYSTKICH n
 a barze!\n\nWSTĘP FREE DO 23!\n\n★Michelle\n\nTej nocy nie może nikogo
  zabraknąć!!!\n✔Niepowtarzalna Atmosfera\n✔Sympatyczna Obsługa\n✔
 Najlepsza Muzyka\n✔Fotorelacja\n----------------------------------------
 ------------------------\n\n✔Piątek 19.07\n✔ Tax: FREE 22-23/ Po 23:0
 0 ALL 5zł\n✔ Start: 22:00
ATTACH;FMTTYPE=image/jpeg:https://night4u.pl/wp-content/uploads/2019/07/49
 971_image_66170258_2564212050255730_1000824394689282048_o.jpg
CATEGORIES:opolskie
LOCATION:Aqarium Music Club - Nysa\, Piastowska 19\, Nysa\, 48-300\, Poland
GEO:50.475975;17.331974
X-APPLE-STRUCTURED-LOCATION;VALUE=URI;X-ADDRESS=Piastowska 19\, Nysa\, 48-3
 00\, Poland;X-APPLE-RADIUS=100;X-TITLE=Aqarium Music Club - Nysa:geo:50.47
 5975,17.331974
END:VEVENT
BEGIN:VTIMEZONE
TZID:Europe/Warsaw
X-LIC-LOCATION:Europe/Warsaw
BEGIN:DAYLIGHT
DTSTART:20190331T030000
TZOFFSETFROM:+0100
TZOFFSETTO:+0200
TZNAME:CEST
END:DAYLIGHT
END:VTIMEZONE
END:VCALENDAR