BEGIN:VCALENDAR
VERSION:2.0
PRODID:-//wp-events-plugin.com//7.2.3.1//EN
TZID:Europe/Warsaw
X-WR-TIMEZONE:Europe/Warsaw
BEGIN:VEVENT
UID:34385@night4u.pl
DTSTART;TZID=Europe/Warsaw:20191101T220000
DTEND;TZID=Europe/Warsaw:20191101T220000
DTSTAMP:20191101T225809Z
URL:https://night4u.pl/wydarzenia/friday-bangerz-dj-michelle-17/
SUMMARY::: Friday Bangerz :: Dj Michelle
DESCRIPTION:Friday Bangerz\, piątek Aqarium Music Club obecność obowiąz
 kowa !!! \n\n:: MUSIC ::\n\nMichellino Damanito -  jest jednym z najpopula
 rniejszym Dj'em we Wrocławiu w gatunkach Muzyki jako Hip Hop \,R&amp\;b \
 , Rap\, reggaeton\, moombahton\, Dancehall.\, Afro. Od 9 lat \,grał w tak
 ich klubach jak: Mundo(Wrocław) \,Daytona(Wrocław) \,Pasja(Wrocław)\,An
 tidotum(Wrocław)\,Melanż(Wrocław)\,Mardi Gras(Gliwice)\, N58 (Warszawa)
 .\n\n::PROMO::\n⚠ Wjazd Free &amp\; Bar-50% do 23 ! \n\n----------------
 ---------------------------------------------------------------\nStart: 22
  / Selekcja \n▶Wejście Free do 23 !\n▶Rezerwacje: 666 13 14 15
ATTACH;FMTTYPE=image/jpeg:https://night4u.pl/wp-content/uploads/2019/10/88
 715_image_74392401_10156568115012327_6889931771115208704_n.jpg
CATEGORIES:opolskie
END:VEVENT
BEGIN:VTIMEZONE
TZID:Europe/Warsaw
X-LIC-LOCATION:Europe/Warsaw
BEGIN:STANDARD
DTSTART:20191027T020000
TZOFFSETFROM:+0200
TZOFFSETTO:+0100
TZNAME:CET
END:STANDARD
END:VTIMEZONE
END:VCALENDAR