BEGIN:VCALENDAR
VERSION:2.0
PRODID:-//wp-events-plugin.com//7.2.3.1//EN
TZID:Europe/Warsaw
X-WR-TIMEZONE:Europe/Warsaw
BEGIN:VEVENT
UID:23424@night4u.pl
DTSTART;TZID=Europe/Warsaw:20190802T210000
DTEND;TZID=Europe/Warsaw:20190803T050000
DTSTAMP:20190731T113121Z
URL:https://night4u.pl/wydarzenia/friday-disco-party-%e2%9c%aa-pt-02-08-cl
 ub-80/
SUMMARY:Friday DISCO PARTY ✪ Pt. 02.08 - Club 80
DESCRIPTION:FRIDAY DISCO PARTY ✪ Pt. 02.08 - Club 80\n\nJuż w piątek za
 gra dla was DJ Cichy. Usłyszycie największe przeboje lat 80'/90' oraz sp
 ecjalne hity z włoskich list przebojów. Usłyszymy hity wszechczasów m.
 in. Modern Talking\, ABBA\, Boney M.\, Savage czy Bad Boys Blue - nie zabr
 aknie również hitów made in Poland.\n\n--\nImprezę nakręca: DJ CICHY\
 n--\nℹ INFO\n\n➡ START: ? 21.00 | DOOR SELECTION\n\n➡ REZERWACJE\n? 
 601 932 923\n\n➡ REGULAMIN KLUBU\nhttps://bit.ly/2AqoA65\n\n➡ POROZMAW
 IAJ ONLINE \nm.me/Club80.Gliwice\n\n➡ WSTĘP\nPANIE do 23:00 - FREE\nPAN
 IE po 23:00 - 5zł\nPANOWIE - 10zł\n--\nwww.club80.pl\nwww.fb.com/Club80.
 Gliwice
ATTACH;FMTTYPE=image/jpeg:https://night4u.pl/wp-content/uploads/2019/07/55
 383_image_67244259_2121803494594633_3118558694015500288_o.jpg
CATEGORIES:śląskie
LOCATION:Club 80 Gliwice\, Dubois 22\, Gliwice\, 44-100\, Poland
GEO:50.300203;18.672661
X-APPLE-STRUCTURED-LOCATION;VALUE=URI;X-ADDRESS=Dubois 22\, Gliwice\, 44-10
 0\, Poland;X-APPLE-RADIUS=100;X-TITLE=Club 80 Gliwice:geo:50.300203,18.672
 661
END:VEVENT
BEGIN:VTIMEZONE
TZID:Europe/Warsaw
X-LIC-LOCATION:Europe/Warsaw
BEGIN:DAYLIGHT
DTSTART:20190331T030000
TZOFFSETFROM:+0100
TZOFFSETTO:+0200
TZNAME:CEST
END:DAYLIGHT
END:VTIMEZONE
END:VCALENDAR